BEGIN:VCALENDAR
VERSION:2.0
PRODID:-//St. Andrew&#039;s Episcopal Church - ECPv6.15.20//NONSGML v1.0//EN
CALSCALE:GREGORIAN
METHOD:PUBLISH
X-WR-CALNAME:St. Andrew&#039;s Episcopal Church
X-ORIGINAL-URL:https://www.standrews.net
X-WR-CALDESC:Events for St. Andrew&#039;s Episcopal Church
REFRESH-INTERVAL;VALUE=DURATION:PT1H
X-Robots-Tag:noindex
X-PUBLISHED-TTL:PT1H
BEGIN:VTIMEZONE
TZID:America/New_York
BEGIN:DAYLIGHT
TZOFFSETFROM:-0500
TZOFFSETTO:-0400
TZNAME:EDT
DTSTART:20260308T070000
END:DAYLIGHT
BEGIN:STANDARD
TZOFFSETFROM:-0400
TZOFFSETTO:-0500
TZNAME:EST
DTSTART:20261101T060000
END:STANDARD
BEGIN:DAYLIGHT
TZOFFSETFROM:-0500
TZOFFSETTO:-0400
TZNAME:EDT
DTSTART:20270314T070000
END:DAYLIGHT
BEGIN:STANDARD
TZOFFSETFROM:-0400
TZOFFSETTO:-0500
TZNAME:EST
DTSTART:20271107T060000
END:STANDARD
BEGIN:DAYLIGHT
TZOFFSETFROM:-0500
TZOFFSETTO:-0400
TZNAME:EDT
DTSTART:20280312T070000
END:DAYLIGHT
BEGIN:STANDARD
TZOFFSETFROM:-0400
TZOFFSETTO:-0500
TZNAME:EST
DTSTART:20281105T060000
END:STANDARD
END:VTIMEZONE
BEGIN:VEVENT
DTSTART;TZID=America/New_York:20271121T080000
DTEND;TZID=America/New_York:20271121T090000
DTSTAMP:20260420T233330
CREATED:20251206T213827Z
LAST-MODIFIED:20260318T205313Z
UID:10003770-1826784000-1826787600@www.standrews.net
SUMMARY:Holy Eucharist: Rite I (Nave)
DESCRIPTION:
URL:https://www.standrews.net/event/holy-eucharist-rite-i-nave-108/
END:VEVENT
BEGIN:VEVENT
DTSTART;TZID=America/New_York:20271121T100000
DTEND;TZID=America/New_York:20271121T111500
DTSTAMP:20260420T233330
CREATED:20251207T213826Z
LAST-MODIFIED:20260318T205313Z
UID:10003771-1826791200-1826795700@www.standrews.net
SUMMARY:Holy Eucharist: Rite II (Nave)
DESCRIPTION:
URL:https://www.standrews.net/event/holy-eucharist-rite-ii-nave-16/
END:VEVENT
BEGIN:VEVENT
DTSTART;TZID=America/New_York:20271123T190000
DTEND;TZID=America/New_York:20271123T203000
DTSTAMP:20260420T233330
CREATED:20251207T213826Z
LAST-MODIFIED:20260318T205313Z
UID:10003772-1826996400-1827001800@www.standrews.net
SUMMARY:AA Meeting (MPR)
DESCRIPTION:
URL:https://www.standrews.net/event/aa-meeting-mpr-16/
END:VEVENT
BEGIN:VEVENT
DTSTART;TZID=America/New_York:20271124T093000
DTEND;TZID=America/New_York:20271124T101000
DTSTAMP:20260420T233330
CREATED:20251207T213826Z
LAST-MODIFIED:20260318T205313Z
UID:10003773-1827048600-1827051000@www.standrews.net
SUMMARY:Holy Eucharist: Rite II (Chapel)
DESCRIPTION:
URL:https://www.standrews.net/event/holy-eucharist-rite-ii-chapel-23/
END:VEVENT
BEGIN:VEVENT
DTSTART;TZID=America/New_York:20271124T130000
DTEND;TZID=America/New_York:20271124T140000
DTSTAMP:20260420T233330
CREATED:20260219T170841Z
LAST-MODIFIED:20260318T205313Z
UID:10004091-1827061200-1827064800@www.standrews.net
SUMMARY:Staff Meeting (Conference Room)
DESCRIPTION:St. A’s Zoom: https://us02web.zoom.us/j/89396581796?pwd=Aia20FVRBdgeR1iGTzzu9Dagnfi8S9.1 \nWill’s Zoom: https://us06web.zoom.us/j/83455041284?pwd=Svr2vBbBiDaaxR8B5uGBT3bPScIKZa.1
URL:https://www.standrews.net/event/staff-meeting-conference-room-78/
END:VEVENT
BEGIN:VEVENT
DTSTART;TZID=America/New_York:20271126T130000
DTEND;TZID=America/New_York:20271126T140000
DTSTAMP:20260420T233330
CREATED:20251207T213826Z
LAST-MODIFIED:20260318T205314Z
UID:10003774-1827234000-1827237600@www.standrews.net
SUMMARY:Peace Islamic Center (Parish Hall)
DESCRIPTION:
URL:https://www.standrews.net/event/peace-islamic-center-parish-hall-16/
END:VEVENT
BEGIN:VEVENT
DTSTART;TZID=America/New_York:20271126T200000
DTEND;TZID=America/New_York:20271126T210000
DTSTAMP:20260420T233330
CREATED:20251207T213826Z
LAST-MODIFIED:20260318T205314Z
UID:10003775-1827259200-1827262800@www.standrews.net
SUMMARY:AA Meeting (Conference Room)
DESCRIPTION:
URL:https://www.standrews.net/event/aa-meeting-conference-room-17/
END:VEVENT
BEGIN:VEVENT
DTSTART;TZID=America/New_York:20271127T151500
DTEND;TZID=America/New_York:20271127T174500
DTSTAMP:20260420T233330
CREATED:20251207T213826Z
LAST-MODIFIED:20260318T205314Z
UID:10003776-1827328500-1827337500@www.standrews.net
SUMMARY:FACETS Hot Meals (Kitchen)
DESCRIPTION:
URL:https://www.standrews.net/event/facets-hot-meals-kitchen-7/
END:VEVENT
BEGIN:VEVENT
DTSTART;TZID=America/New_York:20271127T180000
DTEND;TZID=America/New_York:20271127T190000
DTSTAMP:20260420T233330
CREATED:20251207T213826Z
LAST-MODIFIED:20260318T205314Z
UID:10003777-1827338400-1827342000@www.standrews.net
SUMMARY:Holy Eucharist: Rite II (Chapel)
DESCRIPTION:
URL:https://www.standrews.net/event/holy-eucharist-rite-ii-chapel-24/
END:VEVENT
BEGIN:VEVENT
DTSTART;TZID=America/New_York:20271128T080000
DTEND;TZID=America/New_York:20271128T090000
DTSTAMP:20260420T233330
CREATED:20251207T213827Z
LAST-MODIFIED:20260318T205314Z
UID:10003778-1827388800-1827392400@www.standrews.net
SUMMARY:Holy Eucharist: Rite I (Nave)
DESCRIPTION:
URL:https://www.standrews.net/event/holy-eucharist-rite-i-nave-109/
END:VEVENT
BEGIN:VEVENT
DTSTART;TZID=America/New_York:20271128T100000
DTEND;TZID=America/New_York:20271128T111500
DTSTAMP:20260420T233330
CREATED:20251209T215337Z
LAST-MODIFIED:20260318T205314Z
UID:10003779-1827396000-1827400500@www.standrews.net
SUMMARY:Holy Eucharist: Rite II (Nave)
DESCRIPTION:
URL:https://www.standrews.net/event/holy-eucharist-rite-ii-nave-17/
END:VEVENT
BEGIN:VEVENT
DTSTART;TZID=America/New_York:20271130T190000
DTEND;TZID=America/New_York:20271130T203000
DTSTAMP:20260420T233330
CREATED:20251209T215338Z
LAST-MODIFIED:20260318T205314Z
UID:10003780-1827601200-1827606600@www.standrews.net
SUMMARY:AA Meeting (MPR)
DESCRIPTION:
URL:https://www.standrews.net/event/aa-meeting-mpr-17/
END:VEVENT
BEGIN:VEVENT
DTSTART;TZID=America/New_York:20271201T093000
DTEND;TZID=America/New_York:20271201T101000
DTSTAMP:20260420T233330
CREATED:20251210T215403Z
LAST-MODIFIED:20260318T205314Z
UID:10003781-1827653400-1827655800@www.standrews.net
SUMMARY:Holy Eucharist: Rite II (Chapel)
DESCRIPTION:
URL:https://www.standrews.net/event/holy-eucharist-rite-ii-chapel-25/
END:VEVENT
BEGIN:VEVENT
DTSTART;TZID=America/New_York:20271201T130000
DTEND;TZID=America/New_York:20271201T140000
DTSTAMP:20260420T233330
CREATED:20260222T173820Z
LAST-MODIFIED:20260318T205314Z
UID:10004092-1827666000-1827669600@www.standrews.net
SUMMARY:Staff Meeting (Conference Room)
DESCRIPTION:St. A’s Zoom: https://us02web.zoom.us/j/89396581796?pwd=Aia20FVRBdgeR1iGTzzu9Dagnfi8S9.1 \nWill’s Zoom: https://us06web.zoom.us/j/83455041284?pwd=Svr2vBbBiDaaxR8B5uGBT3bPScIKZa.1
URL:https://www.standrews.net/event/staff-meeting-conference-room-79/
END:VEVENT
BEGIN:VEVENT
DTSTART;TZID=America/New_York:20271203T130000
DTEND;TZID=America/New_York:20271203T140000
DTSTAMP:20260420T233330
CREATED:20251210T215404Z
LAST-MODIFIED:20260318T205314Z
UID:10003782-1827838800-1827842400@www.standrews.net
SUMMARY:Peace Islamic Center (Parish Hall)
DESCRIPTION:
URL:https://www.standrews.net/event/peace-islamic-center-parish-hall-17/
END:VEVENT
BEGIN:VEVENT
DTSTART;TZID=America/New_York:20271203T200000
DTEND;TZID=America/New_York:20271203T210000
DTSTAMP:20260420T233330
CREATED:20251210T215404Z
LAST-MODIFIED:20260318T205314Z
UID:10003783-1827864000-1827867600@www.standrews.net
SUMMARY:AA Meeting (Conference Room)
DESCRIPTION:
URL:https://www.standrews.net/event/aa-meeting-conference-room-18/
END:VEVENT
BEGIN:VEVENT
DTSTART;TZID=America/New_York:20271204T151500
DTEND;TZID=America/New_York:20271204T173000
DTSTAMP:20260420T233330
CREATED:20251210T215404Z
LAST-MODIFIED:20260318T205314Z
UID:10003784-1827933300-1827941400@www.standrews.net
SUMMARY:FACETS Hot Meals (Kitchen)
DESCRIPTION:
URL:https://www.standrews.net/event/facets-hot-meals-kitchen-8/
END:VEVENT
BEGIN:VEVENT
DTSTART;TZID=America/New_York:20271204T180000
DTEND;TZID=America/New_York:20271204T190000
DTSTAMP:20260420T233330
CREATED:20251210T215404Z
LAST-MODIFIED:20260318T205315Z
UID:10003785-1827943200-1827946800@www.standrews.net
SUMMARY:Evening Prayer (Chapel)
DESCRIPTION:
URL:https://www.standrews.net/event/evening-prayer-chapel-5/
END:VEVENT
BEGIN:VEVENT
DTSTART;TZID=America/New_York:20271205T080000
DTEND;TZID=America/New_York:20271205T090000
DTSTAMP:20260420T233330
CREATED:20251210T215404Z
LAST-MODIFIED:20260318T205315Z
UID:10003786-1827993600-1827997200@www.standrews.net
SUMMARY:Holy Eucharist: Rite I (Nave)
DESCRIPTION:
URL:https://www.standrews.net/event/holy-eucharist-rite-i-nave-110/
END:VEVENT
BEGIN:VEVENT
DTSTART;TZID=America/New_York:20271205T100000
DTEND;TZID=America/New_York:20271205T111500
DTSTAMP:20260420T233330
CREATED:20251212T222319Z
LAST-MODIFIED:20260318T205315Z
UID:10003790-1828000800-1828005300@www.standrews.net
SUMMARY:Holy Eucharist: Rite II (Nave)
DESCRIPTION:
URL:https://www.standrews.net/event/holy-eucharist-rite-ii-nave-18/
END:VEVENT
BEGIN:VEVENT
DTSTART;TZID=America/New_York:20271207T190000
DTEND;TZID=America/New_York:20271207T203000
DTSTAMP:20260420T233330
CREATED:20251212T222319Z
LAST-MODIFIED:20260318T205315Z
UID:10003791-1828206000-1828211400@www.standrews.net
SUMMARY:AA Meeting (MPR)
DESCRIPTION:
URL:https://www.standrews.net/event/aa-meeting-mpr-18/
END:VEVENT
BEGIN:VEVENT
DTSTART;TZID=America/New_York:20271208T093000
DTEND;TZID=America/New_York:20271208T101000
DTSTAMP:20260420T233330
CREATED:20251212T222319Z
LAST-MODIFIED:20260318T205315Z
UID:10003792-1828258200-1828260600@www.standrews.net
SUMMARY:Holy Eucharist: Rite II (Chapel)
DESCRIPTION:
URL:https://www.standrews.net/event/holy-eucharist-rite-ii-chapel-26/
END:VEVENT
BEGIN:VEVENT
DTSTART;TZID=America/New_York:20271208T130000
DTEND;TZID=America/New_York:20271208T140000
DTSTAMP:20260420T233330
CREATED:20260228T180825Z
LAST-MODIFIED:20260318T205315Z
UID:10004095-1828270800-1828274400@www.standrews.net
SUMMARY:Staff Meeting (Conference Room)
DESCRIPTION:St. A’s Zoom: https://us02web.zoom.us/j/89396581796?pwd=Aia20FVRBdgeR1iGTzzu9Dagnfi8S9.1 \nWill’s Zoom: https://us06web.zoom.us/j/83455041284?pwd=Svr2vBbBiDaaxR8B5uGBT3bPScIKZa.1
URL:https://www.standrews.net/event/staff-meeting-conference-room-80/
END:VEVENT
BEGIN:VEVENT
DTSTART;TZID=America/New_York:20271208T190000
DTEND;TZID=America/New_York:20271208T210000
DTSTAMP:20260420T233331
CREATED:20260228T180825Z
LAST-MODIFIED:20260318T205315Z
UID:10004096-1828292400-1828299600@www.standrews.net
SUMMARY:Property Resource Committee Meeting (Conference Room)
DESCRIPTION:
URL:https://www.standrews.net/event/property-resource-committee-meeting-conference-room-51/
END:VEVENT
BEGIN:VEVENT
DTSTART;TZID=America/New_York:20271209T190000
DTEND;TZID=America/New_York:20271209T210000
DTSTAMP:20260420T233331
CREATED:20251213T222319Z
LAST-MODIFIED:20260106T193820Z
UID:10003793-1828378800-1828386000@www.standrews.net
SUMMARY:Property Resource Committee Meeting (Conference Room)
DESCRIPTION:
URL:https://www.standrews.net/event/property-resource-committee-meeting-conference-room-5/
END:VEVENT
BEGIN:VEVENT
DTSTART;TZID=America/New_York:20271210T130000
DTEND;TZID=America/New_York:20271210T140000
DTSTAMP:20260420T233331
CREATED:20251214T222316Z
LAST-MODIFIED:20260318T205315Z
UID:10003794-1828443600-1828447200@www.standrews.net
SUMMARY:Peace Islamic Center (Parish Hall)
DESCRIPTION:
URL:https://www.standrews.net/event/peace-islamic-center-parish-hall-18/
END:VEVENT
BEGIN:VEVENT
DTSTART;TZID=America/New_York:20271210T200000
DTEND;TZID=America/New_York:20271210T210000
DTSTAMP:20260420T233331
CREATED:20251214T222316Z
LAST-MODIFIED:20260318T205315Z
UID:10003795-1828468800-1828472400@www.standrews.net
SUMMARY:AA Meeting (Conference Room)
DESCRIPTION:
URL:https://www.standrews.net/event/aa-meeting-conference-room-19/
END:VEVENT
BEGIN:VEVENT
DTSTART;TZID=America/New_York:20271211T180000
DTEND;TZID=America/New_York:20271211T190000
DTSTAMP:20260420T233331
CREATED:20251214T222316Z
LAST-MODIFIED:20260318T205315Z
UID:10003796-1828548000-1828551600@www.standrews.net
SUMMARY:Holy Eucharist: Rite II (Chapel)
DESCRIPTION:
URL:https://www.standrews.net/event/holy-eucharist-rite-ii-chapel-27/
END:VEVENT
BEGIN:VEVENT
DTSTART;TZID=America/New_York:20271212T080000
DTEND;TZID=America/New_York:20271212T090000
DTSTAMP:20260420T233331
CREATED:20251214T222316Z
LAST-MODIFIED:20260318T205315Z
UID:10003797-1828598400-1828602000@www.standrews.net
SUMMARY:Holy Eucharist: Rite I (Nave)
DESCRIPTION:
URL:https://www.standrews.net/event/holy-eucharist-rite-i-nave-111/
END:VEVENT
BEGIN:VEVENT
DTSTART;TZID=America/New_York:20271212T100000
DTEND;TZID=America/New_York:20271212T111500
DTSTAMP:20260420T233331
CREATED:20251214T222316Z
LAST-MODIFIED:20260318T205315Z
UID:10003798-1828605600-1828610100@www.standrews.net
SUMMARY:Holy Eucharist: Rite II (Nave)
DESCRIPTION:
URL:https://www.standrews.net/event/holy-eucharist-rite-ii-nave-19/
END:VEVENT
END:VCALENDAR