BEGIN:VCALENDAR
VERSION:2.0
PRODID:-//St. Andrew&#039;s Episcopal Church - ECPv6.15.20//NONSGML v1.0//EN
CALSCALE:GREGORIAN
METHOD:PUBLISH
X-ORIGINAL-URL:https://www.standrews.net
X-WR-CALDESC:Events for St. Andrew&#039;s Episcopal Church
REFRESH-INTERVAL;VALUE=DURATION:PT1H
X-Robots-Tag:noindex
X-PUBLISHED-TTL:PT1H
BEGIN:VTIMEZONE
TZID:America/New_York
BEGIN:DAYLIGHT
TZOFFSETFROM:-0500
TZOFFSETTO:-0400
TZNAME:EDT
DTSTART:20260308T070000
END:DAYLIGHT
BEGIN:STANDARD
TZOFFSETFROM:-0400
TZOFFSETTO:-0500
TZNAME:EST
DTSTART:20261101T060000
END:STANDARD
BEGIN:DAYLIGHT
TZOFFSETFROM:-0500
TZOFFSETTO:-0400
TZNAME:EDT
DTSTART:20270314T070000
END:DAYLIGHT
BEGIN:STANDARD
TZOFFSETFROM:-0400
TZOFFSETTO:-0500
TZNAME:EST
DTSTART:20271107T060000
END:STANDARD
BEGIN:DAYLIGHT
TZOFFSETFROM:-0500
TZOFFSETTO:-0400
TZNAME:EDT
DTSTART:20280312T070000
END:DAYLIGHT
BEGIN:STANDARD
TZOFFSETFROM:-0400
TZOFFSETTO:-0500
TZNAME:EST
DTSTART:20281105T060000
END:STANDARD
END:VTIMEZONE
BEGIN:VEVENT
DTSTART;TZID=America/New_York:20270901T093000
DTEND;TZID=America/New_York:20270901T101000
DTSTAMP:20260419T203308
CREATED:20251027T215351Z
LAST-MODIFIED:20260318T205305Z
UID:10003644-1819791000-1819793400@www.standrews.net
SUMMARY:Holy Eucharist: Rite II (Chapel)
DESCRIPTION:
URL:https://www.standrews.net/event/holy-eucharist-rite-ii-chapel-6/
END:VEVENT
BEGIN:VEVENT
DTSTART;TZID=America/New_York:20270901T130000
DTEND;TZID=America/New_York:20270901T140000
DTSTAMP:20260419T203308
CREATED:20260107T193825Z
LAST-MODIFIED:20260318T205305Z
UID:10003925-1819803600-1819807200@www.standrews.net
SUMMARY:Staff Meeting (Conference Room)
DESCRIPTION:St. A’s Zoom: https://us02web.zoom.us/j/89396581796?pwd=Aia20FVRBdgeR1iGTzzu9Dagnfi8S9.1 \nWill’s Zoom: https://us06web.zoom.us/j/83455041284?pwd=Svr2vBbBiDaaxR8B5uGBT3bPScIKZa.1
URL:https://www.standrews.net/event/staff-meeting-conference-room-119/
END:VEVENT
BEGIN:VEVENT
DTSTART;TZID=America/New_York:20270903T130000
DTEND;TZID=America/New_York:20270903T140000
DTSTAMP:20260419T203308
CREATED:20251027T215351Z
LAST-MODIFIED:20260318T205305Z
UID:10003645-1819976400-1819980000@www.standrews.net
SUMMARY:Peace Islamic Center (Parish Hall)
DESCRIPTION:
URL:https://www.standrews.net/event/peace-islamic-center-parish-hall-4/
END:VEVENT
BEGIN:VEVENT
DTSTART;TZID=America/New_York:20270903T200000
DTEND;TZID=America/New_York:20270903T210000
DTSTAMP:20260419T203308
CREATED:20251028T220817Z
LAST-MODIFIED:20260318T205306Z
UID:10003651-1820001600-1820005200@www.standrews.net
SUMMARY:AA Meeting (Conference Room)
DESCRIPTION:
URL:https://www.standrews.net/event/aa-meeting-conference-room-5/
END:VEVENT
BEGIN:VEVENT
DTSTART;TZID=America/New_York:20270904T151500
DTEND;TZID=America/New_York:20270904T173000
DTSTAMP:20260419T203308
CREATED:20251029T222310Z
LAST-MODIFIED:20260318T205306Z
UID:10003652-1820070900-1820079000@www.standrews.net
SUMMARY:FACETS Hot Meals (Kitchen)
DESCRIPTION:
URL:https://www.standrews.net/event/facets-hot-meals-kitchen-2/
END:VEVENT
BEGIN:VEVENT
DTSTART;TZID=America/New_York:20270904T180000
DTEND;TZID=America/New_York:20270904T190000
DTSTAMP:20260419T203308
CREATED:20251029T222310Z
LAST-MODIFIED:20260318T205306Z
UID:10003653-1820080800-1820084400@www.standrews.net
SUMMARY:Evening Prayer (Chapel)
DESCRIPTION:
URL:https://www.standrews.net/event/evening-prayer-chapel/
END:VEVENT
BEGIN:VEVENT
DTSTART;TZID=America/New_York:20270905T080000
DTEND;TZID=America/New_York:20270905T090000
DTSTAMP:20260419T203308
CREATED:20251029T222310Z
LAST-MODIFIED:20260318T205306Z
UID:10003654-1820131200-1820134800@www.standrews.net
SUMMARY:Holy Eucharist: Rite I (Nave)
DESCRIPTION:
URL:https://www.standrews.net/event/holy-eucharist-rite-i-nave-42/
END:VEVENT
BEGIN:VEVENT
DTSTART;TZID=America/New_York:20270905T100000
DTEND;TZID=America/New_York:20270905T111500
DTSTAMP:20260419T203308
CREATED:20251029T222310Z
LAST-MODIFIED:20260318T205306Z
UID:10003655-1820138400-1820142900@www.standrews.net
SUMMARY:Holy Eucharist: Rite II (Nave)
DESCRIPTION:
URL:https://www.standrews.net/event/holy-eucharist-rite-ii-nave-5/
END:VEVENT
BEGIN:VEVENT
DTSTART;TZID=America/New_York:20270907T190000
DTEND;TZID=America/New_York:20270907T203000
DTSTAMP:20260419T203308
CREATED:20251029T222310Z
LAST-MODIFIED:20260318T205306Z
UID:10003656-1820343600-1820349000@www.standrews.net
SUMMARY:AA Meeting (MPR)
DESCRIPTION:
URL:https://www.standrews.net/event/aa-meeting-mpr-5/
END:VEVENT
BEGIN:VEVENT
DTSTART;TZID=America/New_York:20270908T093000
DTEND;TZID=America/New_York:20270908T101000
DTSTAMP:20260419T203308
CREATED:20251031T222315Z
LAST-MODIFIED:20260318T205306Z
UID:10003658-1820395800-1820398200@www.standrews.net
SUMMARY:Holy Eucharist: Rite II (Chapel)
DESCRIPTION:
URL:https://www.standrews.net/event/holy-eucharist-rite-ii-chapel-7/
END:VEVENT
BEGIN:VEVENT
DTSTART;TZID=America/New_York:20270908T130000
DTEND;TZID=America/New_York:20270908T140000
DTSTAMP:20260419T203308
CREATED:20260107T193826Z
LAST-MODIFIED:20260318T205306Z
UID:10003926-1820408400-1820412000@www.standrews.net
SUMMARY:Staff Meeting (Conference Room)
DESCRIPTION:St. A’s Zoom: https://us02web.zoom.us/j/89396581796?pwd=Aia20FVRBdgeR1iGTzzu9Dagnfi8S9.1 \nWill’s Zoom: https://us06web.zoom.us/j/83455041284?pwd=Svr2vBbBiDaaxR8B5uGBT3bPScIKZa.1
URL:https://www.standrews.net/event/staff-meeting-conference-room-120/
END:VEVENT
BEGIN:VEVENT
DTSTART;TZID=America/New_York:20270908T190000
DTEND;TZID=America/New_York:20270908T210000
DTSTAMP:20260419T203308
CREATED:20260218T170853Z
LAST-MODIFIED:20260318T205306Z
UID:10004088-1820430000-1820437200@www.standrews.net
SUMMARY:Property Resource Committee Meeting (Conference Room)
DESCRIPTION:
URL:https://www.standrews.net/event/property-resource-committee-meeting-conference-room-48/
END:VEVENT
BEGIN:VEVENT
DTSTART;TZID=America/New_York:20270909T190000
DTEND;TZID=America/New_York:20270909T210000
DTSTAMP:20260419T203308
CREATED:20251031T222315Z
LAST-MODIFIED:20260217T170651Z
UID:10003659-1820516400-1820523600@www.standrews.net
SUMMARY:Property Resource Committee Meeting (Conference Room)
DESCRIPTION:
URL:https://www.standrews.net/event/property-resource-committee-meeting-conference-room-2/
END:VEVENT
BEGIN:VEVENT
DTSTART;TZID=America/New_York:20270910T130000
DTEND;TZID=America/New_York:20270910T140000
DTSTAMP:20260419T203308
CREATED:20251101T222306Z
LAST-MODIFIED:20260318T205306Z
UID:10003660-1820581200-1820584800@www.standrews.net
SUMMARY:Peace Islamic Center (Parish Hall)
DESCRIPTION:
URL:https://www.standrews.net/event/peace-islamic-center-parish-hall-5/
END:VEVENT
BEGIN:VEVENT
DTSTART;TZID=America/New_York:20270910T200000
DTEND;TZID=America/New_York:20270910T210000
DTSTAMP:20260419T203308
CREATED:20251101T222306Z
LAST-MODIFIED:20260318T205306Z
UID:10003661-1820606400-1820610000@www.standrews.net
SUMMARY:AA Meeting (Conference Room)
DESCRIPTION:
URL:https://www.standrews.net/event/aa-meeting-conference-room-6/
END:VEVENT
BEGIN:VEVENT
DTSTART;TZID=America/New_York:20270911T180000
DTEND;TZID=America/New_York:20270911T190000
DTSTAMP:20260419T203308
CREATED:20251102T223830Z
LAST-MODIFIED:20260318T205306Z
UID:10003662-1820685600-1820689200@www.standrews.net
SUMMARY:Holy Eucharist: Rite II (Chapel)
DESCRIPTION:
URL:https://www.standrews.net/event/holy-eucharist-rite-ii-chapel-8/
END:VEVENT
BEGIN:VEVENT
DTSTART;TZID=America/New_York:20270912T080000
DTEND;TZID=America/New_York:20270912T090000
DTSTAMP:20260419T203308
CREATED:20251102T223830Z
LAST-MODIFIED:20260318T205306Z
UID:10003663-1820736000-1820739600@www.standrews.net
SUMMARY:Holy Eucharist: Rite I (Nave)
DESCRIPTION:
URL:https://www.standrews.net/event/holy-eucharist-rite-i-nave-98/
END:VEVENT
BEGIN:VEVENT
DTSTART;TZID=America/New_York:20270912T100000
DTEND;TZID=America/New_York:20270912T111500
DTSTAMP:20260419T203308
CREATED:20251102T223830Z
LAST-MODIFIED:20260318T205306Z
UID:10003664-1820743200-1820747700@www.standrews.net
SUMMARY:Holy Eucharist: Rite II (Nave)
DESCRIPTION:
URL:https://www.standrews.net/event/holy-eucharist-rite-ii-nave-6/
END:VEVENT
BEGIN:VEVENT
DTSTART;TZID=America/New_York:20270913T190000
DTEND;TZID=America/New_York:20270913T210000
DTSTAMP:20260419T203308
CREATED:20251102T223830Z
LAST-MODIFIED:20260318T205306Z
UID:10003665-1820862000-1820869200@www.standrews.net
SUMMARY:Vestry Meeting (Conference Room)
DESCRIPTION:
URL:https://www.standrews.net/event/vestry-meeting-conference-room/
END:VEVENT
BEGIN:VEVENT
DTSTART;TZID=America/New_York:20270914T190000
DTEND;TZID=America/New_York:20270914T203000
DTSTAMP:20260419T203308
CREATED:20251102T223830Z
LAST-MODIFIED:20260318T205307Z
UID:10003666-1820948400-1820953800@www.standrews.net
SUMMARY:AA Meeting (MPR)
DESCRIPTION:
URL:https://www.standrews.net/event/aa-meeting-mpr-6/
END:VEVENT
BEGIN:VEVENT
DTSTART;TZID=America/New_York:20270915T093000
DTEND;TZID=America/New_York:20270915T101000
DTSTAMP:20260419T203308
CREATED:20251102T223830Z
LAST-MODIFIED:20260318T205307Z
UID:10003667-1821000600-1821003000@www.standrews.net
SUMMARY:Holy Eucharist: Rite II (Chapel)
DESCRIPTION:
URL:https://www.standrews.net/event/holy-eucharist-rite-ii-chapel-9/
END:VEVENT
BEGIN:VEVENT
DTSTART;TZID=America/New_York:20270915T130000
DTEND;TZID=America/New_York:20270915T140000
DTSTAMP:20260419T203308
CREATED:20260107T193827Z
LAST-MODIFIED:20260318T205307Z
UID:10003927-1821013200-1821016800@www.standrews.net
SUMMARY:Staff Meeting (Conference Room)
DESCRIPTION:St. A’s Zoom: https://us02web.zoom.us/j/89396581796?pwd=Aia20FVRBdgeR1iGTzzu9Dagnfi8S9.1 \nWill’s Zoom: https://us06web.zoom.us/j/83455041284?pwd=Svr2vBbBiDaaxR8B5uGBT3bPScIKZa.1
URL:https://www.standrews.net/event/staff-meeting-conference-room-121/
END:VEVENT
BEGIN:VEVENT
DTSTART;TZID=America/New_York:20270917T130000
DTEND;TZID=America/New_York:20270917T140000
DTSTAMP:20260419T203308
CREATED:20251105T225320Z
LAST-MODIFIED:20260318T205307Z
UID:10003674-1821186000-1821189600@www.standrews.net
SUMMARY:Peace Islamic Center (Parish Hall)
DESCRIPTION:
URL:https://www.standrews.net/event/peace-islamic-center-parish-hall-6/
END:VEVENT
BEGIN:VEVENT
DTSTART;TZID=America/New_York:20270917T200000
DTEND;TZID=America/New_York:20270917T210000
DTSTAMP:20260419T203308
CREATED:20251106T230812Z
LAST-MODIFIED:20260318T205307Z
UID:10003676-1821211200-1821214800@www.standrews.net
SUMMARY:AA Meeting (Conference Room)
DESCRIPTION:
URL:https://www.standrews.net/event/aa-meeting-conference-room-7/
END:VEVENT
BEGIN:VEVENT
DTSTART;TZID=America/New_York:20270918T180000
DTEND;TZID=America/New_York:20270918T190000
DTSTAMP:20260419T203308
CREATED:20251107T230817Z
LAST-MODIFIED:20260318T205307Z
UID:10003677-1821290400-1821294000@www.standrews.net
SUMMARY:Taizé (Nave)
DESCRIPTION:
URL:https://www.standrews.net/event/taize-nave-2/
END:VEVENT
BEGIN:VEVENT
DTSTART;TZID=America/New_York:20270919T080000
DTEND;TZID=America/New_York:20270919T090000
DTSTAMP:20260419T203308
CREATED:20251107T230817Z
LAST-MODIFIED:20260318T205307Z
UID:10003678-1821340800-1821344400@www.standrews.net
SUMMARY:Holy Eucharist: Rite I (Nave)
DESCRIPTION:
URL:https://www.standrews.net/event/holy-eucharist-rite-i-nave-99/
END:VEVENT
BEGIN:VEVENT
DTSTART;TZID=America/New_York:20270919T100000
DTEND;TZID=America/New_York:20270919T111500
DTSTAMP:20260419T203308
CREATED:20251107T230817Z
LAST-MODIFIED:20260318T205307Z
UID:10003679-1821348000-1821352500@www.standrews.net
SUMMARY:Holy Eucharist: Rite II (Nave)
DESCRIPTION:
URL:https://www.standrews.net/event/holy-eucharist-rite-ii-nave-7/
END:VEVENT
BEGIN:VEVENT
DTSTART;TZID=America/New_York:20270921T190000
DTEND;TZID=America/New_York:20270921T203000
DTSTAMP:20260419T203308
CREATED:20251108T232322Z
LAST-MODIFIED:20260318T205307Z
UID:10003680-1821553200-1821558600@www.standrews.net
SUMMARY:AA Meeting (MPR)
DESCRIPTION:
URL:https://www.standrews.net/event/aa-meeting-mpr-7/
END:VEVENT
BEGIN:VEVENT
DTSTART;TZID=America/New_York:20270922T093000
DTEND;TZID=America/New_York:20270922T101000
DTSTAMP:20260419T203308
CREATED:20251109T233807Z
LAST-MODIFIED:20260318T205307Z
UID:10003681-1821605400-1821607800@www.standrews.net
SUMMARY:Holy Eucharist: Rite II (Chapel)
DESCRIPTION:
URL:https://www.standrews.net/event/holy-eucharist-rite-ii-chapel-10/
END:VEVENT
BEGIN:VEVENT
DTSTART;TZID=America/New_York:20270922T130000
DTEND;TZID=America/New_York:20270922T140000
DTSTAMP:20260419T203308
CREATED:20260107T193827Z
LAST-MODIFIED:20260318T205307Z
UID:10003928-1821618000-1821621600@www.standrews.net
SUMMARY:Staff Meeting (Conference Room)
DESCRIPTION:St. A’s Zoom: https://us02web.zoom.us/j/89396581796?pwd=Aia20FVRBdgeR1iGTzzu9Dagnfi8S9.1 \nWill’s Zoom: https://us06web.zoom.us/j/83455041284?pwd=Svr2vBbBiDaaxR8B5uGBT3bPScIKZa.1
URL:https://www.standrews.net/event/staff-meeting-conference-room-122/
END:VEVENT
END:VCALENDAR