BEGIN:VCALENDAR
VERSION:2.0
PRODID:-//St. Andrew&#039;s Episcopal Church - ECPv6.15.20//NONSGML v1.0//EN
CALSCALE:GREGORIAN
METHOD:PUBLISH
X-ORIGINAL-URL:https://www.standrews.net
X-WR-CALDESC:Events for St. Andrew&#039;s Episcopal Church
REFRESH-INTERVAL;VALUE=DURATION:PT1H
X-Robots-Tag:noindex
X-PUBLISHED-TTL:PT1H
BEGIN:VTIMEZONE
TZID:America/New_York
BEGIN:DAYLIGHT
TZOFFSETFROM:-0500
TZOFFSETTO:-0400
TZNAME:EDT
DTSTART:20260308T070000
END:DAYLIGHT
BEGIN:STANDARD
TZOFFSETFROM:-0400
TZOFFSETTO:-0500
TZNAME:EST
DTSTART:20261101T060000
END:STANDARD
BEGIN:DAYLIGHT
TZOFFSETFROM:-0500
TZOFFSETTO:-0400
TZNAME:EDT
DTSTART:20270314T070000
END:DAYLIGHT
BEGIN:STANDARD
TZOFFSETFROM:-0400
TZOFFSETTO:-0500
TZNAME:EST
DTSTART:20271107T060000
END:STANDARD
BEGIN:DAYLIGHT
TZOFFSETFROM:-0500
TZOFFSETTO:-0400
TZNAME:EDT
DTSTART:20280312T070000
END:DAYLIGHT
BEGIN:STANDARD
TZOFFSETFROM:-0400
TZOFFSETTO:-0500
TZNAME:EST
DTSTART:20281105T060000
END:STANDARD
END:VTIMEZONE
BEGIN:VEVENT
DTSTART;TZID=America/New_York:20270915T093000
DTEND;TZID=America/New_York:20270915T101000
DTSTAMP:20260420T015242
CREATED:20251102T223830Z
LAST-MODIFIED:20260318T205307Z
UID:10003667-1821000600-1821003000@www.standrews.net
SUMMARY:Holy Eucharist: Rite II (Chapel)
DESCRIPTION:
URL:https://www.standrews.net/event/holy-eucharist-rite-ii-chapel-9/
END:VEVENT
BEGIN:VEVENT
DTSTART;TZID=America/New_York:20270915T130000
DTEND;TZID=America/New_York:20270915T140000
DTSTAMP:20260420T015242
CREATED:20260107T193827Z
LAST-MODIFIED:20260318T205307Z
UID:10003927-1821013200-1821016800@www.standrews.net
SUMMARY:Staff Meeting (Conference Room)
DESCRIPTION:St. A’s Zoom: https://us02web.zoom.us/j/89396581796?pwd=Aia20FVRBdgeR1iGTzzu9Dagnfi8S9.1 \nWill’s Zoom: https://us06web.zoom.us/j/83455041284?pwd=Svr2vBbBiDaaxR8B5uGBT3bPScIKZa.1
URL:https://www.standrews.net/event/staff-meeting-conference-room-121/
END:VEVENT
BEGIN:VEVENT
DTSTART;TZID=America/New_York:20270917T130000
DTEND;TZID=America/New_York:20270917T140000
DTSTAMP:20260420T015242
CREATED:20251105T225320Z
LAST-MODIFIED:20260318T205307Z
UID:10003674-1821186000-1821189600@www.standrews.net
SUMMARY:Peace Islamic Center (Parish Hall)
DESCRIPTION:
URL:https://www.standrews.net/event/peace-islamic-center-parish-hall-6/
END:VEVENT
BEGIN:VEVENT
DTSTART;TZID=America/New_York:20270917T200000
DTEND;TZID=America/New_York:20270917T210000
DTSTAMP:20260420T015242
CREATED:20251106T230812Z
LAST-MODIFIED:20260318T205307Z
UID:10003676-1821211200-1821214800@www.standrews.net
SUMMARY:AA Meeting (Conference Room)
DESCRIPTION:
URL:https://www.standrews.net/event/aa-meeting-conference-room-7/
END:VEVENT
BEGIN:VEVENT
DTSTART;TZID=America/New_York:20270918T180000
DTEND;TZID=America/New_York:20270918T190000
DTSTAMP:20260420T015242
CREATED:20251107T230817Z
LAST-MODIFIED:20260318T205307Z
UID:10003677-1821290400-1821294000@www.standrews.net
SUMMARY:Taizé (Nave)
DESCRIPTION:
URL:https://www.standrews.net/event/taize-nave-2/
END:VEVENT
BEGIN:VEVENT
DTSTART;TZID=America/New_York:20270919T080000
DTEND;TZID=America/New_York:20270919T090000
DTSTAMP:20260420T015242
CREATED:20251107T230817Z
LAST-MODIFIED:20260318T205307Z
UID:10003678-1821340800-1821344400@www.standrews.net
SUMMARY:Holy Eucharist: Rite I (Nave)
DESCRIPTION:
URL:https://www.standrews.net/event/holy-eucharist-rite-i-nave-99/
END:VEVENT
BEGIN:VEVENT
DTSTART;TZID=America/New_York:20270919T100000
DTEND;TZID=America/New_York:20270919T111500
DTSTAMP:20260420T015242
CREATED:20251107T230817Z
LAST-MODIFIED:20260318T205307Z
UID:10003679-1821348000-1821352500@www.standrews.net
SUMMARY:Holy Eucharist: Rite II (Nave)
DESCRIPTION:
URL:https://www.standrews.net/event/holy-eucharist-rite-ii-nave-7/
END:VEVENT
BEGIN:VEVENT
DTSTART;TZID=America/New_York:20270921T190000
DTEND;TZID=America/New_York:20270921T203000
DTSTAMP:20260420T015242
CREATED:20251108T232322Z
LAST-MODIFIED:20260318T205307Z
UID:10003680-1821553200-1821558600@www.standrews.net
SUMMARY:AA Meeting (MPR)
DESCRIPTION:
URL:https://www.standrews.net/event/aa-meeting-mpr-7/
END:VEVENT
BEGIN:VEVENT
DTSTART;TZID=America/New_York:20270922T093000
DTEND;TZID=America/New_York:20270922T101000
DTSTAMP:20260420T015242
CREATED:20251109T233807Z
LAST-MODIFIED:20260318T205307Z
UID:10003681-1821605400-1821607800@www.standrews.net
SUMMARY:Holy Eucharist: Rite II (Chapel)
DESCRIPTION:
URL:https://www.standrews.net/event/holy-eucharist-rite-ii-chapel-10/
END:VEVENT
BEGIN:VEVENT
DTSTART;TZID=America/New_York:20270922T130000
DTEND;TZID=America/New_York:20270922T140000
DTSTAMP:20260420T015242
CREATED:20260107T193827Z
LAST-MODIFIED:20260318T205307Z
UID:10003928-1821618000-1821621600@www.standrews.net
SUMMARY:Staff Meeting (Conference Room)
DESCRIPTION:St. A’s Zoom: https://us02web.zoom.us/j/89396581796?pwd=Aia20FVRBdgeR1iGTzzu9Dagnfi8S9.1 \nWill’s Zoom: https://us06web.zoom.us/j/83455041284?pwd=Svr2vBbBiDaaxR8B5uGBT3bPScIKZa.1
URL:https://www.standrews.net/event/staff-meeting-conference-room-122/
END:VEVENT
BEGIN:VEVENT
DTSTART;TZID=America/New_York:20270924T130000
DTEND;TZID=America/New_York:20270924T140000
DTSTAMP:20260420T015242
CREATED:20251109T233808Z
LAST-MODIFIED:20260318T205307Z
UID:10003682-1821790800-1821794400@www.standrews.net
SUMMARY:Peace Islamic Center (Parish Hall)
DESCRIPTION:
URL:https://www.standrews.net/event/peace-islamic-center-parish-hall-7/
END:VEVENT
BEGIN:VEVENT
DTSTART;TZID=America/New_York:20270924T200000
DTEND;TZID=America/New_York:20270924T210000
DTSTAMP:20260420T015242
CREATED:20251109T233808Z
LAST-MODIFIED:20260318T205307Z
UID:10003683-1821816000-1821819600@www.standrews.net
SUMMARY:AA Meeting (Conference Room)
DESCRIPTION:
URL:https://www.standrews.net/event/aa-meeting-conference-room-8/
END:VEVENT
BEGIN:VEVENT
DTSTART;TZID=America/New_York:20270925T151500
DTEND;TZID=America/New_York:20270925T174500
DTSTAMP:20260420T015242
CREATED:20251109T233808Z
LAST-MODIFIED:20260318T205307Z
UID:10003684-1821885300-1821894300@www.standrews.net
SUMMARY:FACETS Hot Meals (Kitchen)
DESCRIPTION:
URL:https://www.standrews.net/event/facets-hot-meals-kitchen-3/
END:VEVENT
BEGIN:VEVENT
DTSTART;TZID=America/New_York:20270925T180000
DTEND;TZID=America/New_York:20270925T190000
DTSTAMP:20260420T015242
CREATED:20251109T233808Z
LAST-MODIFIED:20260318T205307Z
UID:10003685-1821895200-1821898800@www.standrews.net
SUMMARY:Holy Eucharist: Rite II (Chapel)
DESCRIPTION:
URL:https://www.standrews.net/event/holy-eucharist-rite-ii-chapel-11/
END:VEVENT
BEGIN:VEVENT
DTSTART;TZID=America/New_York:20270926T080000
DTEND;TZID=America/New_York:20270926T090000
DTSTAMP:20260420T015242
CREATED:20251109T233808Z
LAST-MODIFIED:20260318T205308Z
UID:10003686-1821945600-1821949200@www.standrews.net
SUMMARY:Holy Eucharist: Rite I (Nave)
DESCRIPTION:
URL:https://www.standrews.net/event/holy-eucharist-rite-i-nave-100/
END:VEVENT
BEGIN:VEVENT
DTSTART;TZID=America/New_York:20270926T100000
DTEND;TZID=America/New_York:20270926T111500
DTSTAMP:20260420T015242
CREATED:20251112T233809Z
LAST-MODIFIED:20260318T205308Z
UID:10003690-1821952800-1821957300@www.standrews.net
SUMMARY:Holy Eucharist: Rite II (Nave)
DESCRIPTION:
URL:https://www.standrews.net/event/holy-eucharist-rite-ii-nave-8/
END:VEVENT
BEGIN:VEVENT
DTSTART;TZID=America/New_York:20270928T190000
DTEND;TZID=America/New_York:20270928T203000
DTSTAMP:20260420T015242
CREATED:20251112T233809Z
LAST-MODIFIED:20260318T205308Z
UID:10003691-1822158000-1822163400@www.standrews.net
SUMMARY:AA Meeting (MPR)
DESCRIPTION:
URL:https://www.standrews.net/event/aa-meeting-mpr-8/
END:VEVENT
BEGIN:VEVENT
DTSTART;TZID=America/New_York:20270929T093000
DTEND;TZID=America/New_York:20270929T101000
DTSTAMP:20260420T015242
CREATED:20251112T233809Z
LAST-MODIFIED:20260318T205308Z
UID:10003692-1822210200-1822212600@www.standrews.net
SUMMARY:Holy Eucharist: Rite II (Chapel)
DESCRIPTION:
URL:https://www.standrews.net/event/holy-eucharist-rite-ii-chapel-12/
END:VEVENT
BEGIN:VEVENT
DTSTART;TZID=America/New_York:20270929T130000
DTEND;TZID=America/New_York:20270929T140000
DTSTAMP:20260420T015242
CREATED:20260107T193828Z
LAST-MODIFIED:20260318T205308Z
UID:10003929-1822222800-1822226400@www.standrews.net
SUMMARY:Staff Meeting (Conference Room)
DESCRIPTION:St. A’s Zoom: https://us02web.zoom.us/j/89396581796?pwd=Aia20FVRBdgeR1iGTzzu9Dagnfi8S9.1 \nWill’s Zoom: https://us06web.zoom.us/j/83455041284?pwd=Svr2vBbBiDaaxR8B5uGBT3bPScIKZa.1
URL:https://www.standrews.net/event/staff-meeting-conference-room-123/
END:VEVENT
BEGIN:VEVENT
DTSTART;TZID=America/New_York:20271001T130000
DTEND;TZID=America/New_York:20271001T140000
DTSTAMP:20260420T015242
CREATED:20251112T233809Z
LAST-MODIFIED:20260318T205308Z
UID:10003693-1822395600-1822399200@www.standrews.net
SUMMARY:Peace Islamic Center (Parish Hall)
DESCRIPTION:
URL:https://www.standrews.net/event/peace-islamic-center-parish-hall-8/
END:VEVENT
BEGIN:VEVENT
DTSTART;TZID=America/New_York:20271001T200000
DTEND;TZID=America/New_York:20271001T210000
DTSTAMP:20260420T015242
CREATED:20251112T233809Z
LAST-MODIFIED:20260318T205308Z
UID:10003694-1822420800-1822424400@www.standrews.net
SUMMARY:AA Meeting (Conference Room)
DESCRIPTION:
URL:https://www.standrews.net/event/aa-meeting-conference-room-9/
END:VEVENT
BEGIN:VEVENT
DTSTART;TZID=America/New_York:20271002T151500
DTEND;TZID=America/New_York:20271002T173000
DTSTAMP:20260420T015242
CREATED:20251112T233810Z
LAST-MODIFIED:20260318T205308Z
UID:10003695-1822490100-1822498200@www.standrews.net
SUMMARY:FACETS Hot Meals (Kitchen)
DESCRIPTION:
URL:https://www.standrews.net/event/facets-hot-meals-kitchen-4/
END:VEVENT
BEGIN:VEVENT
DTSTART;TZID=America/New_York:20271002T180000
DTEND;TZID=America/New_York:20271002T190000
DTSTAMP:20260420T015242
CREATED:20251114T233810Z
LAST-MODIFIED:20260318T205308Z
UID:10003696-1822500000-1822503600@www.standrews.net
SUMMARY:Evening Prayer (Chapel)
DESCRIPTION:
URL:https://www.standrews.net/event/evening-prayer-chapel-2/
END:VEVENT
BEGIN:VEVENT
DTSTART;TZID=America/New_York:20271003T080000
DTEND;TZID=America/New_York:20271003T090000
DTSTAMP:20260420T015242
CREATED:20251114T233810Z
LAST-MODIFIED:20260318T205308Z
UID:10003697-1822550400-1822554000@www.standrews.net
SUMMARY:Holy Eucharist: Rite I (Nave)
DESCRIPTION:
URL:https://www.standrews.net/event/holy-eucharist-rite-i-nave-101/
END:VEVENT
BEGIN:VEVENT
DTSTART;TZID=America/New_York:20271003T100000
DTEND;TZID=America/New_York:20271003T111500
DTSTAMP:20260420T015242
CREATED:20251114T233810Z
LAST-MODIFIED:20260318T205308Z
UID:10003698-1822557600-1822562100@www.standrews.net
SUMMARY:Holy Eucharist: Rite II (Nave)
DESCRIPTION:
URL:https://www.standrews.net/event/holy-eucharist-rite-ii-nave-9/
END:VEVENT
BEGIN:VEVENT
DTSTART;TZID=America/New_York:20271005T190000
DTEND;TZID=America/New_York:20271005T203000
DTSTAMP:20260420T015242
CREATED:20251114T233810Z
LAST-MODIFIED:20260318T205308Z
UID:10003699-1822762800-1822768200@www.standrews.net
SUMMARY:AA Meeting (MPR)
DESCRIPTION:
URL:https://www.standrews.net/event/aa-meeting-mpr-9/
END:VEVENT
BEGIN:VEVENT
DTSTART;TZID=America/New_York:20271006T093000
DTEND;TZID=America/New_York:20271006T101000
DTSTAMP:20260420T015242
CREATED:20251115T233811Z
LAST-MODIFIED:20260318T205309Z
UID:10003700-1822815000-1822817400@www.standrews.net
SUMMARY:Holy Eucharist: Rite II (Chapel)
DESCRIPTION:
URL:https://www.standrews.net/event/holy-eucharist-rite-ii-chapel-13/
END:VEVENT
BEGIN:VEVENT
DTSTART;TZID=America/New_York:20271006T130000
DTEND;TZID=America/New_York:20271006T140000
DTSTAMP:20260420T015242
CREATED:20260107T193829Z
LAST-MODIFIED:20260318T205309Z
UID:10003930-1822827600-1822831200@www.standrews.net
SUMMARY:Staff Meeting (Conference Room)
DESCRIPTION:St. A’s Zoom: https://us02web.zoom.us/j/89396581796?pwd=Aia20FVRBdgeR1iGTzzu9Dagnfi8S9.1 \nWill’s Zoom: https://us06web.zoom.us/j/83455041284?pwd=Svr2vBbBiDaaxR8B5uGBT3bPScIKZa.1
URL:https://www.standrews.net/event/staff-meeting-conference-room-124/
END:VEVENT
BEGIN:VEVENT
DTSTART;TZID=America/New_York:20271008T130000
DTEND;TZID=America/New_York:20271008T140000
DTSTAMP:20260420T015242
CREATED:20251115T233811Z
LAST-MODIFIED:20260318T205309Z
UID:10003701-1823000400-1823004000@www.standrews.net
SUMMARY:Peace Islamic Center (Parish Hall)
DESCRIPTION:
URL:https://www.standrews.net/event/peace-islamic-center-parish-hall-9/
END:VEVENT
BEGIN:VEVENT
DTSTART;TZID=America/New_York:20271008T200000
DTEND;TZID=America/New_York:20271008T210000
DTSTAMP:20260420T015242
CREATED:20251115T233811Z
LAST-MODIFIED:20260318T205309Z
UID:10003702-1823025600-1823029200@www.standrews.net
SUMMARY:AA Meeting (Conference Room)
DESCRIPTION:
URL:https://www.standrews.net/event/aa-meeting-conference-room-10/
END:VEVENT
END:VCALENDAR