BEGIN:VCALENDAR
VERSION:2.0
PRODID:-//St. Andrew&#039;s Episcopal Church - ECPv6.15.20//NONSGML v1.0//EN
CALSCALE:GREGORIAN
METHOD:PUBLISH
X-WR-CALNAME:St. Andrew&#039;s Episcopal Church
X-ORIGINAL-URL:https://www.standrews.net
X-WR-CALDESC:Events for St. Andrew&#039;s Episcopal Church
REFRESH-INTERVAL;VALUE=DURATION:PT1H
X-Robots-Tag:noindex
X-PUBLISHED-TTL:PT1H
BEGIN:VTIMEZONE
TZID:America/New_York
BEGIN:DAYLIGHT
TZOFFSETFROM:-0500
TZOFFSETTO:-0400
TZNAME:EDT
DTSTART:20260308T070000
END:DAYLIGHT
BEGIN:STANDARD
TZOFFSETFROM:-0400
TZOFFSETTO:-0500
TZNAME:EST
DTSTART:20261101T060000
END:STANDARD
BEGIN:DAYLIGHT
TZOFFSETFROM:-0500
TZOFFSETTO:-0400
TZNAME:EDT
DTSTART:20270314T070000
END:DAYLIGHT
BEGIN:STANDARD
TZOFFSETFROM:-0400
TZOFFSETTO:-0500
TZNAME:EST
DTSTART:20271107T060000
END:STANDARD
BEGIN:DAYLIGHT
TZOFFSETFROM:-0500
TZOFFSETTO:-0400
TZNAME:EDT
DTSTART:20280312T070000
END:DAYLIGHT
BEGIN:STANDARD
TZOFFSETFROM:-0400
TZOFFSETTO:-0500
TZNAME:EST
DTSTART:20281105T060000
END:STANDARD
END:VTIMEZONE
BEGIN:VEVENT
DTSTART;TZID=America/New_York:20270704T080000
DTEND;TZID=America/New_York:20270704T090000
DTSTAMP:20260420T004951
CREATED:20250731T194813Z
LAST-MODIFIED:20260318T205257Z
UID:10003225-1814688000-1814691600@www.standrews.net
SUMMARY:Holy Eucharist: Rite I (Nave)
DESCRIPTION:
URL:https://www.standrews.net/event/holy-eucharist-rite-i-nave-92/
END:VEVENT
BEGIN:VEVENT
DTSTART;TZID=America/New_York:20270704T100000
DTEND;TZID=America/New_York:20270704T111500
DTSTAMP:20260420T004951
CREATED:20250731T194813Z
LAST-MODIFIED:20260318T205257Z
UID:10003226-1814695200-1814699700@www.standrews.net
SUMMARY:Holy Eucharist: Rite II (Nave)
DESCRIPTION:
URL:https://www.standrews.net/event/holy-eucharist-rite-ii-nave-188/
END:VEVENT
BEGIN:VEVENT
DTSTART;TZID=America/New_York:20270706T190000
DTEND;TZID=America/New_York:20270706T203000
DTSTAMP:20260420T004951
CREATED:20250731T194813Z
LAST-MODIFIED:20260318T205257Z
UID:10003227-1814900400-1814905800@www.standrews.net
SUMMARY:AA Meeting (MPR)
DESCRIPTION:
URL:https://www.standrews.net/event/aa-meeting-mpr-184/
END:VEVENT
BEGIN:VEVENT
DTSTART;TZID=America/New_York:20270707T093000
DTEND;TZID=America/New_York:20270707T101000
DTSTAMP:20260420T004951
CREATED:20250731T194813Z
LAST-MODIFIED:20260318T205258Z
UID:10003228-1814952600-1814955000@www.standrews.net
SUMMARY:Holy Eucharist: Rite II (Chapel)
DESCRIPTION:
URL:https://www.standrews.net/event/holy-eucharist-rite-ii-chapel-267/
END:VEVENT
BEGIN:VEVENT
DTSTART;TZID=America/New_York:20270707T130000
DTEND;TZID=America/New_York:20270707T140000
DTSTAMP:20260420T004951
CREATED:20260107T193820Z
LAST-MODIFIED:20260318T205258Z
UID:10003917-1814965200-1814968800@www.standrews.net
SUMMARY:Staff Meeting (Conference Room)
DESCRIPTION:St. A’s Zoom: https://us02web.zoom.us/j/89396581796?pwd=Aia20FVRBdgeR1iGTzzu9Dagnfi8S9.1 \nWill’s Zoom: https://us06web.zoom.us/j/83455041284?pwd=Svr2vBbBiDaaxR8B5uGBT3bPScIKZa.1
URL:https://www.standrews.net/event/staff-meeting-conference-room-111/
END:VEVENT
BEGIN:VEVENT
DTSTART;TZID=America/New_York:20270708T190000
DTEND;TZID=America/New_York:20270708T210000
DTSTAMP:20260420T004951
CREATED:20250731T194814Z
LAST-MODIFIED:20260217T170645Z
UID:10003229-1815073200-1815080400@www.standrews.net
SUMMARY:Property Resource Committee Meeting (Conference Room)
DESCRIPTION:
URL:https://www.standrews.net/event/property-resource-committee-meeting-conference-room-43/
END:VEVENT
BEGIN:VEVENT
DTSTART;TZID=America/New_York:20270709T130000
DTEND;TZID=America/New_York:20270709T140000
DTSTAMP:20260420T004951
CREATED:20250731T194814Z
LAST-MODIFIED:20260318T205258Z
UID:10003230-1815138000-1815141600@www.standrews.net
SUMMARY:Peace Islamic Center (Parish Hall)
DESCRIPTION:
URL:https://www.standrews.net/event/peace-islamic-center-parish-hall-185/
END:VEVENT
BEGIN:VEVENT
DTSTART;TZID=America/New_York:20270709T200000
DTEND;TZID=America/New_York:20270709T210000
DTSTAMP:20260420T004951
CREATED:20250731T194814Z
LAST-MODIFIED:20260318T205258Z
UID:10003231-1815163200-1815166800@www.standrews.net
SUMMARY:AA Meeting (Conference Room)
DESCRIPTION:
URL:https://www.standrews.net/event/aa-meeting-conference-room-184/
END:VEVENT
BEGIN:VEVENT
DTSTART;TZID=America/New_York:20270710T180000
DTEND;TZID=America/New_York:20270710T190000
DTSTAMP:20260420T004951
CREATED:20250731T194814Z
LAST-MODIFIED:20260318T205258Z
UID:10003232-1815242400-1815246000@www.standrews.net
SUMMARY:Holy Eucharist: Rite II (Chapel)
DESCRIPTION:
URL:https://www.standrews.net/event/holy-eucharist-rite-ii-chapel-268/
END:VEVENT
BEGIN:VEVENT
DTSTART;TZID=America/New_York:20270711T080000
DTEND;TZID=America/New_York:20270711T090000
DTSTAMP:20260420T004951
CREATED:20250731T194814Z
LAST-MODIFIED:20260318T205258Z
UID:10003233-1815292800-1815296400@www.standrews.net
SUMMARY:Holy Eucharist: Rite I (Nave)
DESCRIPTION:
URL:https://www.standrews.net/event/holy-eucharist-rite-i-nave-93/
END:VEVENT
BEGIN:VEVENT
DTSTART;TZID=America/New_York:20270711T100000
DTEND;TZID=America/New_York:20270711T111500
DTSTAMP:20260420T004951
CREATED:20250731T194814Z
LAST-MODIFIED:20260318T205258Z
UID:10003234-1815300000-1815304500@www.standrews.net
SUMMARY:Holy Eucharist: Rite II (Nave)
DESCRIPTION:
URL:https://www.standrews.net/event/holy-eucharist-rite-ii-nave-189/
END:VEVENT
BEGIN:VEVENT
DTSTART;TZID=America/New_York:20270712T190000
DTEND;TZID=America/New_York:20270712T210000
DTSTAMP:20260420T004951
CREATED:20250731T194815Z
LAST-MODIFIED:20260318T205258Z
UID:10003235-1815418800-1815426000@www.standrews.net
SUMMARY:Vestry Meeting (Conference Room)
DESCRIPTION:
URL:https://www.standrews.net/event/vestry-meeting-conference-room-46/
END:VEVENT
BEGIN:VEVENT
DTSTART;TZID=America/New_York:20270713T190000
DTEND;TZID=America/New_York:20270713T203000
DTSTAMP:20260420T004951
CREATED:20250731T194815Z
LAST-MODIFIED:20260318T205258Z
UID:10003236-1815505200-1815510600@www.standrews.net
SUMMARY:AA Meeting (MPR)
DESCRIPTION:
URL:https://www.standrews.net/event/aa-meeting-mpr-185/
END:VEVENT
BEGIN:VEVENT
DTSTART;TZID=America/New_York:20270714T093000
DTEND;TZID=America/New_York:20270714T101000
DTSTAMP:20260420T004951
CREATED:20250731T194815Z
LAST-MODIFIED:20260318T205258Z
UID:10003237-1815557400-1815559800@www.standrews.net
SUMMARY:Holy Eucharist: Rite II (Chapel)
DESCRIPTION:
URL:https://www.standrews.net/event/holy-eucharist-rite-ii-chapel-269/
END:VEVENT
BEGIN:VEVENT
DTSTART;TZID=America/New_York:20270714T130000
DTEND;TZID=America/New_York:20270714T140000
DTSTAMP:20260420T004951
CREATED:20260107T193821Z
LAST-MODIFIED:20260318T205258Z
UID:10003918-1815570000-1815573600@www.standrews.net
SUMMARY:Staff Meeting (Conference Room)
DESCRIPTION:St. A’s Zoom: https://us02web.zoom.us/j/89396581796?pwd=Aia20FVRBdgeR1iGTzzu9Dagnfi8S9.1 \nWill’s Zoom: https://us06web.zoom.us/j/83455041284?pwd=Svr2vBbBiDaaxR8B5uGBT3bPScIKZa.1
URL:https://www.standrews.net/event/staff-meeting-conference-room-112/
END:VEVENT
BEGIN:VEVENT
DTSTART;TZID=America/New_York:20270714T190000
DTEND;TZID=America/New_York:20270714T210000
DTSTAMP:20260420T004951
CREATED:20260218T170848Z
LAST-MODIFIED:20260318T205258Z
UID:10004086-1815591600-1815598800@www.standrews.net
SUMMARY:Property Resource Committee Meeting (Conference Room)
DESCRIPTION:
URL:https://www.standrews.net/event/property-resource-committee-meeting-conference-room-46/
END:VEVENT
BEGIN:VEVENT
DTSTART;TZID=America/New_York:20270716T130000
DTEND;TZID=America/New_York:20270716T140000
DTSTAMP:20260420T004951
CREATED:20250731T194815Z
LAST-MODIFIED:20260318T205258Z
UID:10003238-1815742800-1815746400@www.standrews.net
SUMMARY:Peace Islamic Center (Parish Hall)
DESCRIPTION:
URL:https://www.standrews.net/event/peace-islamic-center-parish-hall-186/
END:VEVENT
BEGIN:VEVENT
DTSTART;TZID=America/New_York:20270716T200000
DTEND;TZID=America/New_York:20270716T210000
DTSTAMP:20260420T004951
CREATED:20250731T194815Z
LAST-MODIFIED:20260318T205258Z
UID:10003239-1815768000-1815771600@www.standrews.net
SUMMARY:AA Meeting (Conference Room)
DESCRIPTION:
URL:https://www.standrews.net/event/aa-meeting-conference-room-185/
END:VEVENT
BEGIN:VEVENT
DTSTART;TZID=America/New_York:20270717T180000
DTEND;TZID=America/New_York:20270717T190000
DTSTAMP:20260420T004951
CREATED:20250731T194816Z
LAST-MODIFIED:20260318T205258Z
UID:10003240-1815847200-1815850800@www.standrews.net
SUMMARY:Taizé (Nave)
DESCRIPTION:
URL:https://www.standrews.net/event/taize-nave-42/
END:VEVENT
BEGIN:VEVENT
DTSTART;TZID=America/New_York:20270718T080000
DTEND;TZID=America/New_York:20270718T090000
DTSTAMP:20260420T004951
CREATED:20250731T194816Z
LAST-MODIFIED:20260318T205301Z
UID:10003241-1815897600-1815901200@www.standrews.net
SUMMARY:Holy Eucharist: Rite I (Nave)
DESCRIPTION:
URL:https://www.standrews.net/event/holy-eucharist-rite-i-nave-94/
END:VEVENT
BEGIN:VEVENT
DTSTART;TZID=America/New_York:20270718T100000
DTEND;TZID=America/New_York:20270718T111500
DTSTAMP:20260420T004951
CREATED:20250731T194816Z
LAST-MODIFIED:20260318T205301Z
UID:10003242-1815904800-1815909300@www.standrews.net
SUMMARY:Holy Eucharist: Rite II (Nave)
DESCRIPTION:
URL:https://www.standrews.net/event/holy-eucharist-rite-ii-nave-190/
END:VEVENT
BEGIN:VEVENT
DTSTART;TZID=America/New_York:20270720T190000
DTEND;TZID=America/New_York:20270720T203000
DTSTAMP:20260420T004951
CREATED:20250731T194816Z
LAST-MODIFIED:20260318T205301Z
UID:10003243-1816110000-1816115400@www.standrews.net
SUMMARY:AA Meeting (MPR)
DESCRIPTION:
URL:https://www.standrews.net/event/aa-meeting-mpr-186/
END:VEVENT
BEGIN:VEVENT
DTSTART;TZID=America/New_York:20270721T093000
DTEND;TZID=America/New_York:20270721T101000
DTSTAMP:20260420T004951
CREATED:20250731T194816Z
LAST-MODIFIED:20260318T205301Z
UID:10003244-1816162200-1816164600@www.standrews.net
SUMMARY:Holy Eucharist: Rite II (Chapel)
DESCRIPTION:
URL:https://www.standrews.net/event/holy-eucharist-rite-ii-chapel-270/
END:VEVENT
BEGIN:VEVENT
DTSTART;TZID=America/New_York:20270721T130000
DTEND;TZID=America/New_York:20270721T140000
DTSTAMP:20260420T004951
CREATED:20260107T193821Z
LAST-MODIFIED:20260318T205302Z
UID:10003919-1816174800-1816178400@www.standrews.net
SUMMARY:Staff Meeting (Conference Room)
DESCRIPTION:St. A’s Zoom: https://us02web.zoom.us/j/89396581796?pwd=Aia20FVRBdgeR1iGTzzu9Dagnfi8S9.1 \nWill’s Zoom: https://us06web.zoom.us/j/83455041284?pwd=Svr2vBbBiDaaxR8B5uGBT3bPScIKZa.1
URL:https://www.standrews.net/event/staff-meeting-conference-room-113/
END:VEVENT
BEGIN:VEVENT
DTSTART;TZID=America/New_York:20270723T130000
DTEND;TZID=America/New_York:20270723T140000
DTSTAMP:20260420T004951
CREATED:20250731T194816Z
LAST-MODIFIED:20260318T205302Z
UID:10003245-1816347600-1816351200@www.standrews.net
SUMMARY:Peace Islamic Center (Parish Hall)
DESCRIPTION:
URL:https://www.standrews.net/event/peace-islamic-center-parish-hall-187/
END:VEVENT
BEGIN:VEVENT
DTSTART;TZID=America/New_York:20270723T200000
DTEND;TZID=America/New_York:20270723T210000
DTSTAMP:20260420T004951
CREATED:20250731T194817Z
LAST-MODIFIED:20260318T205302Z
UID:10003246-1816372800-1816376400@www.standrews.net
SUMMARY:AA Meeting (Conference Room)
DESCRIPTION:
URL:https://www.standrews.net/event/aa-meeting-conference-room-186/
END:VEVENT
BEGIN:VEVENT
DTSTART;TZID=America/New_York:20270724T151500
DTEND;TZID=America/New_York:20270724T174500
DTSTAMP:20260420T004951
CREATED:20250731T194817Z
LAST-MODIFIED:20260318T205302Z
UID:10003247-1816442100-1816451100@www.standrews.net
SUMMARY:FACETS Hot Meals (Kitchen)
DESCRIPTION:
URL:https://www.standrews.net/event/facets-hot-meals-kitchen-86/
END:VEVENT
BEGIN:VEVENT
DTSTART;TZID=America/New_York:20270724T180000
DTEND;TZID=America/New_York:20270724T190000
DTSTAMP:20260420T004951
CREATED:20250731T194817Z
LAST-MODIFIED:20260318T205302Z
UID:10003248-1816452000-1816455600@www.standrews.net
SUMMARY:Holy Eucharist: Rite II (Chapel)
DESCRIPTION:
URL:https://www.standrews.net/event/holy-eucharist-rite-ii-chapel-271/
END:VEVENT
BEGIN:VEVENT
DTSTART;TZID=America/New_York:20270725T080000
DTEND;TZID=America/New_York:20270725T090000
DTSTAMP:20260420T004951
CREATED:20250731T194817Z
LAST-MODIFIED:20260318T205302Z
UID:10003249-1816502400-1816506000@www.standrews.net
SUMMARY:Holy Eucharist: Rite I (Nave)
DESCRIPTION:
URL:https://www.standrews.net/event/holy-eucharist-rite-i-nave-95/
END:VEVENT
BEGIN:VEVENT
DTSTART;TZID=America/New_York:20270725T100000
DTEND;TZID=America/New_York:20270725T111500
DTSTAMP:20260420T004951
CREATED:20250731T194817Z
LAST-MODIFIED:20260318T205302Z
UID:10003250-1816509600-1816514100@www.standrews.net
SUMMARY:Holy Eucharist: Rite II (Nave)
DESCRIPTION:
URL:https://www.standrews.net/event/holy-eucharist-rite-ii-nave-191/
END:VEVENT
END:VCALENDAR