BEGIN:VCALENDAR
VERSION:2.0
PRODID:-//St. Andrew&#039;s Episcopal Church - ECPv6.15.20//NONSGML v1.0//EN
CALSCALE:GREGORIAN
METHOD:PUBLISH
X-WR-CALNAME:St. Andrew&#039;s Episcopal Church
X-ORIGINAL-URL:https://www.standrews.net
X-WR-CALDESC:Events for St. Andrew&#039;s Episcopal Church
REFRESH-INTERVAL;VALUE=DURATION:PT1H
X-Robots-Tag:noindex
X-PUBLISHED-TTL:PT1H
BEGIN:VTIMEZONE
TZID:America/New_York
BEGIN:DAYLIGHT
TZOFFSETFROM:-0500
TZOFFSETTO:-0400
TZNAME:EDT
DTSTART:20260308T070000
END:DAYLIGHT
BEGIN:STANDARD
TZOFFSETFROM:-0400
TZOFFSETTO:-0500
TZNAME:EST
DTSTART:20261101T060000
END:STANDARD
BEGIN:DAYLIGHT
TZOFFSETFROM:-0500
TZOFFSETTO:-0400
TZNAME:EDT
DTSTART:20270314T070000
END:DAYLIGHT
BEGIN:STANDARD
TZOFFSETFROM:-0400
TZOFFSETTO:-0500
TZNAME:EST
DTSTART:20271107T060000
END:STANDARD
BEGIN:DAYLIGHT
TZOFFSETFROM:-0500
TZOFFSETTO:-0400
TZNAME:EDT
DTSTART:20280312T070000
END:DAYLIGHT
BEGIN:STANDARD
TZOFFSETFROM:-0400
TZOFFSETTO:-0500
TZNAME:EST
DTSTART:20281105T060000
END:STANDARD
END:VTIMEZONE
BEGIN:VEVENT
DTSTART;TZID=America/New_York:20271027T093000
DTEND;TZID=America/New_York:20271027T101000
DTSTAMP:20260420T082910
CREATED:20251123T100813Z
LAST-MODIFIED:20260318T205311Z
UID:10003729-1824629400-1824631800@www.standrews.net
SUMMARY:Holy Eucharist: Rite II (Chapel)
DESCRIPTION:
URL:https://www.standrews.net/event/holy-eucharist-rite-ii-chapel-18/
END:VEVENT
BEGIN:VEVENT
DTSTART;TZID=America/New_York:20271027T130000
DTEND;TZID=America/New_York:20271027T140000
DTSTAMP:20260420T082910
CREATED:20260109T193815Z
LAST-MODIFIED:20260318T205311Z
UID:10003936-1824642000-1824645600@www.standrews.net
SUMMARY:Staff Meeting (Conference Room)
DESCRIPTION:St. A’s Zoom: https://us02web.zoom.us/j/89396581796?pwd=Aia20FVRBdgeR1iGTzzu9Dagnfi8S9.1 \nWill’s Zoom: https://us06web.zoom.us/j/83455041284?pwd=Svr2vBbBiDaaxR8B5uGBT3bPScIKZa.1
URL:https://www.standrews.net/event/staff-meeting-conference-room-127/
END:VEVENT
BEGIN:VEVENT
DTSTART;TZID=America/New_York:20271029T130000
DTEND;TZID=America/New_York:20271029T140000
DTSTAMP:20260420T082910
CREATED:20251124T102315Z
LAST-MODIFIED:20260318T205311Z
UID:10003730-1824814800-1824818400@www.standrews.net
SUMMARY:Peace Islamic Center (Parish Hall)
DESCRIPTION:
URL:https://www.standrews.net/event/peace-islamic-center-parish-hall-12/
END:VEVENT
BEGIN:VEVENT
DTSTART;TZID=America/New_York:20271029T200000
DTEND;TZID=America/New_York:20271029T210000
DTSTAMP:20260420T082910
CREATED:20251124T102315Z
LAST-MODIFIED:20260318T205311Z
UID:10003731-1824840000-1824843600@www.standrews.net
SUMMARY:AA Meeting (Conference Room)
DESCRIPTION:
URL:https://www.standrews.net/event/aa-meeting-conference-room-13/
END:VEVENT
BEGIN:VEVENT
DTSTART;TZID=America/New_York:20271031T080000
DTEND;TZID=America/New_York:20271031T090000
DTSTAMP:20260420T082910
CREATED:20251124T102315Z
LAST-MODIFIED:20260318T205311Z
UID:10003732-1824969600-1824973200@www.standrews.net
SUMMARY:Holy Eucharist: Rite I (Nave)
DESCRIPTION:
URL:https://www.standrews.net/event/holy-eucharist-rite-i-nave-105/
END:VEVENT
BEGIN:VEVENT
DTSTART;TZID=America/New_York:20271031T100000
DTEND;TZID=America/New_York:20271031T111500
DTSTAMP:20260420T082910
CREATED:20251124T102317Z
LAST-MODIFIED:20260318T205311Z
UID:10003733-1824976800-1824981300@www.standrews.net
SUMMARY:Holy Eucharist: Rite II (Nave)
DESCRIPTION:
URL:https://www.standrews.net/event/holy-eucharist-rite-ii-nave-13/
END:VEVENT
BEGIN:VEVENT
DTSTART;TZID=America/New_York:20271102T190000
DTEND;TZID=America/New_York:20271102T203000
DTSTAMP:20260420T082910
CREATED:20251124T102317Z
LAST-MODIFIED:20260318T205311Z
UID:10003734-1825182000-1825187400@www.standrews.net
SUMMARY:AA Meeting (MPR)
DESCRIPTION:
URL:https://www.standrews.net/event/aa-meeting-mpr-13/
END:VEVENT
BEGIN:VEVENT
DTSTART;TZID=America/New_York:20271103T093000
DTEND;TZID=America/New_York:20271103T101000
DTSTAMP:20260420T082910
CREATED:20251125T103829Z
LAST-MODIFIED:20260318T205311Z
UID:10003735-1825234200-1825236600@www.standrews.net
SUMMARY:Holy Eucharist: Rite II (Chapel)
DESCRIPTION:
URL:https://www.standrews.net/event/holy-eucharist-rite-ii-chapel-19/
END:VEVENT
BEGIN:VEVENT
DTSTART;TZID=America/New_York:20271103T130000
DTEND;TZID=America/New_York:20271103T140000
DTSTAMP:20260420T082910
CREATED:20260111T195311Z
LAST-MODIFIED:20260318T205311Z
UID:10003937-1825246800-1825250400@www.standrews.net
SUMMARY:Staff Meeting (Conference Room)
DESCRIPTION:St. A’s Zoom: https://us02web.zoom.us/j/89396581796?pwd=Aia20FVRBdgeR1iGTzzu9Dagnfi8S9.1 \nWill’s Zoom: https://us06web.zoom.us/j/83455041284?pwd=Svr2vBbBiDaaxR8B5uGBT3bPScIKZa.1
URL:https://www.standrews.net/event/staff-meeting-conference-room-128/
END:VEVENT
BEGIN:VEVENT
DTSTART;TZID=America/New_York:20271105T130000
DTEND;TZID=America/New_York:20271105T140000
DTSTAMP:20260420T082910
CREATED:20251125T103829Z
LAST-MODIFIED:20260318T205312Z
UID:10003736-1825419600-1825423200@www.standrews.net
SUMMARY:Peace Islamic Center (Parish Hall)
DESCRIPTION:
URL:https://www.standrews.net/event/peace-islamic-center-parish-hall-13/
END:VEVENT
BEGIN:VEVENT
DTSTART;TZID=America/New_York:20271105T200000
DTEND;TZID=America/New_York:20271105T210000
DTSTAMP:20260420T082910
CREATED:20251125T203155Z
LAST-MODIFIED:20260318T205312Z
UID:10003738-1825444800-1825448400@www.standrews.net
SUMMARY:AA Meeting (Conference Room)
DESCRIPTION:
URL:https://www.standrews.net/event/aa-meeting-conference-room-14/
END:VEVENT
BEGIN:VEVENT
DTSTART;TZID=America/New_York:20271106T151500
DTEND;TZID=America/New_York:20271106T173000
DTSTAMP:20260420T082910
CREATED:20251126T203816Z
LAST-MODIFIED:20260318T205312Z
UID:10003739-1825514100-1825522200@www.standrews.net
SUMMARY:FACETS Hot Meals (Kitchen)
DESCRIPTION:
URL:https://www.standrews.net/event/facets-hot-meals-kitchen-6/
END:VEVENT
BEGIN:VEVENT
DTSTART;TZID=America/New_York:20271106T180000
DTEND;TZID=America/New_York:20271106T190000
DTSTAMP:20260420T082910
CREATED:20251126T203817Z
LAST-MODIFIED:20260318T205312Z
UID:10003740-1825524000-1825527600@www.standrews.net
SUMMARY:Evening Prayer (Chapel)
DESCRIPTION:
URL:https://www.standrews.net/event/evening-prayer-chapel-4/
END:VEVENT
BEGIN:VEVENT
DTSTART;TZID=America/New_York:20271107T080000
DTEND;TZID=America/New_York:20271107T090000
DTSTAMP:20260420T082910
CREATED:20251126T203817Z
LAST-MODIFIED:20260318T205312Z
UID:10003741-1825574400-1825578000@www.standrews.net
SUMMARY:Holy Eucharist: Rite I (Nave)
DESCRIPTION:
URL:https://www.standrews.net/event/holy-eucharist-rite-i-nave-106/
END:VEVENT
BEGIN:VEVENT
DTSTART;TZID=America/New_York:20271107T100000
DTEND;TZID=America/New_York:20271107T111500
DTSTAMP:20260420T082910
CREATED:20251126T203817Z
LAST-MODIFIED:20260318T205312Z
UID:10003742-1825581600-1825586100@www.standrews.net
SUMMARY:Holy Eucharist: Rite II (Nave)
DESCRIPTION:
URL:https://www.standrews.net/event/holy-eucharist-rite-ii-nave-14/
END:VEVENT
BEGIN:VEVENT
DTSTART;TZID=America/New_York:20271108T190000
DTEND;TZID=America/New_York:20271108T210000
DTSTAMP:20260420T082910
CREATED:20251126T203817Z
LAST-MODIFIED:20260318T205312Z
UID:10003743-1825700400-1825707600@www.standrews.net
SUMMARY:Vestry Meeting (Conference Room)
DESCRIPTION:
URL:https://www.standrews.net/event/vestry-meeting-conference-room-3/
END:VEVENT
BEGIN:VEVENT
DTSTART;TZID=America/New_York:20271109T190000
DTEND;TZID=America/New_York:20271109T203000
DTSTAMP:20260420T082910
CREATED:20251128T203816Z
LAST-MODIFIED:20260318T205312Z
UID:10003744-1825786800-1825792200@www.standrews.net
SUMMARY:AA Meeting (MPR)
DESCRIPTION:
URL:https://www.standrews.net/event/aa-meeting-mpr-14/
END:VEVENT
BEGIN:VEVENT
DTSTART;TZID=America/New_York:20271110T093000
DTEND;TZID=America/New_York:20271110T101000
DTSTAMP:20260420T082910
CREATED:20251128T203816Z
LAST-MODIFIED:20260318T205312Z
UID:10003745-1825839000-1825841400@www.standrews.net
SUMMARY:Holy Eucharist: Rite II (Chapel)
DESCRIPTION:
URL:https://www.standrews.net/event/holy-eucharist-rite-ii-chapel-20/
END:VEVENT
BEGIN:VEVENT
DTSTART;TZID=America/New_York:20271110T130000
DTEND;TZID=America/New_York:20271110T140000
DTSTAMP:20260420T082910
CREATED:20260208T180812Z
LAST-MODIFIED:20260318T205312Z
UID:10004053-1825851600-1825855200@www.standrews.net
SUMMARY:Staff Meeting (Conference Room)
DESCRIPTION:St. A’s Zoom: https://us02web.zoom.us/j/89396581796?pwd=Aia20FVRBdgeR1iGTzzu9Dagnfi8S9.1 \nWill’s Zoom: https://us06web.zoom.us/j/83455041284?pwd=Svr2vBbBiDaaxR8B5uGBT3bPScIKZa.1
URL:https://www.standrews.net/event/staff-meeting-conference-room-7/
END:VEVENT
BEGIN:VEVENT
DTSTART;TZID=America/New_York:20271110T190000
DTEND;TZID=America/New_York:20271110T210000
DTSTAMP:20260420T082910
CREATED:20260218T170900Z
LAST-MODIFIED:20260318T205312Z
UID:10004090-1825873200-1825880400@www.standrews.net
SUMMARY:Property Resource Committee Meeting (Conference Room)
DESCRIPTION:
URL:https://www.standrews.net/event/property-resource-committee-meeting-conference-room-50/
END:VEVENT
BEGIN:VEVENT
DTSTART;TZID=America/New_York:20271111T190000
DTEND;TZID=America/New_York:20271111T210000
DTSTAMP:20260420T082910
CREATED:20251129T203810Z
LAST-MODIFIED:20260217T170657Z
UID:10003746-1825959600-1825966800@www.standrews.net
SUMMARY:Property Resource Committee Meeting (Conference Room)
DESCRIPTION:
URL:https://www.standrews.net/event/property-resource-committee-meeting-conference-room-4/
END:VEVENT
BEGIN:VEVENT
DTSTART;TZID=America/New_York:20271112T130000
DTEND;TZID=America/New_York:20271112T140000
DTSTAMP:20260420T082910
CREATED:20251129T203810Z
LAST-MODIFIED:20260318T205312Z
UID:10003747-1826024400-1826028000@www.standrews.net
SUMMARY:Peace Islamic Center (Parish Hall)
DESCRIPTION:
URL:https://www.standrews.net/event/peace-islamic-center-parish-hall-14/
END:VEVENT
BEGIN:VEVENT
DTSTART;TZID=America/New_York:20271112T200000
DTEND;TZID=America/New_York:20271112T210000
DTSTAMP:20260420T082910
CREATED:20251130T205326Z
LAST-MODIFIED:20260318T205312Z
UID:10003748-1826049600-1826053200@www.standrews.net
SUMMARY:AA Meeting (Conference Room)
DESCRIPTION:
URL:https://www.standrews.net/event/aa-meeting-conference-room-15/
END:VEVENT
BEGIN:VEVENT
DTSTART;TZID=America/New_York:20271113T180000
DTEND;TZID=America/New_York:20271113T190000
DTSTAMP:20260420T082910
CREATED:20251130T205326Z
LAST-MODIFIED:20260318T205313Z
UID:10003749-1826128800-1826132400@www.standrews.net
SUMMARY:Holy Eucharist: Rite II (Chapel)
DESCRIPTION:
URL:https://www.standrews.net/event/holy-eucharist-rite-ii-chapel-21/
END:VEVENT
BEGIN:VEVENT
DTSTART;TZID=America/New_York:20271114T080000
DTEND;TZID=America/New_York:20271114T090000
DTSTAMP:20260420T082910
CREATED:20251130T205327Z
LAST-MODIFIED:20260318T205313Z
UID:10003750-1826179200-1826182800@www.standrews.net
SUMMARY:Holy Eucharist: Rite I (Nave)
DESCRIPTION:
URL:https://www.standrews.net/event/holy-eucharist-rite-i-nave-107/
END:VEVENT
BEGIN:VEVENT
DTSTART;TZID=America/New_York:20271114T100000
DTEND;TZID=America/New_York:20271114T111500
DTSTAMP:20260420T082910
CREATED:20251130T205327Z
LAST-MODIFIED:20260318T205313Z
UID:10003751-1826186400-1826190900@www.standrews.net
SUMMARY:Holy Eucharist: Rite II (Nave)
DESCRIPTION:
URL:https://www.standrews.net/event/holy-eucharist-rite-ii-nave-15/
END:VEVENT
BEGIN:VEVENT
DTSTART;TZID=America/New_York:20271116T190000
DTEND;TZID=America/New_York:20271116T203000
DTSTAMP:20260420T082910
CREATED:20251130T205327Z
LAST-MODIFIED:20260318T205313Z
UID:10003752-1826391600-1826397000@www.standrews.net
SUMMARY:AA Meeting (MPR)
DESCRIPTION:
URL:https://www.standrews.net/event/aa-meeting-mpr-15/
END:VEVENT
BEGIN:VEVENT
DTSTART;TZID=America/New_York:20271117T093000
DTEND;TZID=America/New_York:20271117T101000
DTSTAMP:20260420T082910
CREATED:20251205T213838Z
LAST-MODIFIED:20260318T205313Z
UID:10003766-1826443800-1826446200@www.standrews.net
SUMMARY:Holy Eucharist: Rite II (Chapel)
DESCRIPTION:
URL:https://www.standrews.net/event/holy-eucharist-rite-ii-chapel-22/
END:VEVENT
BEGIN:VEVENT
DTSTART;TZID=America/New_York:20271117T130000
DTEND;TZID=America/New_York:20271117T140000
DTSTAMP:20260420T082910
CREATED:20260216T185327Z
LAST-MODIFIED:20260318T205313Z
UID:10004069-1826456400-1826460000@www.standrews.net
SUMMARY:Staff Meeting (Conference Room)
DESCRIPTION:St. A’s Zoom: https://us02web.zoom.us/j/89396581796?pwd=Aia20FVRBdgeR1iGTzzu9Dagnfi8S9.1 \nWill’s Zoom: https://us06web.zoom.us/j/83455041284?pwd=Svr2vBbBiDaaxR8B5uGBT3bPScIKZa.1
URL:https://www.standrews.net/event/staff-meeting-conference-room-11/
END:VEVENT
BEGIN:VEVENT
DTSTART;TZID=America/New_York:20271119T130000
DTEND;TZID=America/New_York:20271119T140000
DTSTAMP:20260420T082910
CREATED:20251205T213838Z
LAST-MODIFIED:20260318T205313Z
UID:10003767-1826629200-1826632800@www.standrews.net
SUMMARY:Peace Islamic Center (Parish Hall)
DESCRIPTION:
URL:https://www.standrews.net/event/peace-islamic-center-parish-hall-15/
END:VEVENT
END:VCALENDAR