BEGIN:VCALENDAR
VERSION:2.0
PRODID:-//St. Andrew&#039;s Episcopal Church - ECPv6.15.20//NONSGML v1.0//EN
CALSCALE:GREGORIAN
METHOD:PUBLISH
X-ORIGINAL-URL:https://www.standrews.net
X-WR-CALDESC:Events for St. Andrew&#039;s Episcopal Church
REFRESH-INTERVAL;VALUE=DURATION:PT1H
X-Robots-Tag:noindex
X-PUBLISHED-TTL:PT1H
BEGIN:VTIMEZONE
TZID:America/New_York
BEGIN:DAYLIGHT
TZOFFSETFROM:-0500
TZOFFSETTO:-0400
TZNAME:EDT
DTSTART:20260308T070000
END:DAYLIGHT
BEGIN:STANDARD
TZOFFSETFROM:-0400
TZOFFSETTO:-0500
TZNAME:EST
DTSTART:20261101T060000
END:STANDARD
BEGIN:DAYLIGHT
TZOFFSETFROM:-0500
TZOFFSETTO:-0400
TZNAME:EDT
DTSTART:20270314T070000
END:DAYLIGHT
BEGIN:STANDARD
TZOFFSETFROM:-0400
TZOFFSETTO:-0500
TZNAME:EST
DTSTART:20271107T060000
END:STANDARD
BEGIN:DAYLIGHT
TZOFFSETFROM:-0500
TZOFFSETTO:-0400
TZNAME:EDT
DTSTART:20280312T070000
END:DAYLIGHT
BEGIN:STANDARD
TZOFFSETFROM:-0400
TZOFFSETTO:-0500
TZNAME:EST
DTSTART:20281105T060000
END:STANDARD
BEGIN:DAYLIGHT
TZOFFSETFROM:-0500
TZOFFSETTO:-0400
TZNAME:EDT
DTSTART:20290311T070000
END:DAYLIGHT
BEGIN:STANDARD
TZOFFSETFROM:-0400
TZOFFSETTO:-0500
TZNAME:EST
DTSTART:20291104T060000
END:STANDARD
END:VTIMEZONE
BEGIN:VEVENT
DTSTART;TZID=America/New_York:20271217T130000
DTEND;TZID=America/New_York:20271217T140000
DTSTAMP:20260420T173833
CREATED:20251218T180043Z
LAST-MODIFIED:20260318T205316Z
UID:10003805-1829048400-1829052000@www.standrews.net
SUMMARY:Peace Islamic Center (Parish Hall)
DESCRIPTION:
URL:https://www.standrews.net/event/peace-islamic-center-parish-hall-19/
END:VEVENT
BEGIN:VEVENT
DTSTART;TZID=America/New_York:20271217T200000
DTEND;TZID=America/New_York:20271217T210000
DTSTAMP:20260420T173833
CREATED:20251218T180043Z
LAST-MODIFIED:20260318T205316Z
UID:10003806-1829073600-1829077200@www.standrews.net
SUMMARY:AA Meeting (Conference Room)
DESCRIPTION:
URL:https://www.standrews.net/event/aa-meeting-conference-room-20/
END:VEVENT
BEGIN:VEVENT
DTSTART;TZID=America/New_York:20271218T180000
DTEND;TZID=America/New_York:20271218T190000
DTSTAMP:20260420T173833
CREATED:20251218T180043Z
LAST-MODIFIED:20260318T205316Z
UID:10003807-1829152800-1829156400@www.standrews.net
SUMMARY:Taizé (Nave)
DESCRIPTION:
URL:https://www.standrews.net/event/taize-nave-5/
END:VEVENT
BEGIN:VEVENT
DTSTART;TZID=America/New_York:20271219T080000
DTEND;TZID=America/New_York:20271219T090000
DTSTAMP:20260420T173833
CREATED:20251219T180817Z
LAST-MODIFIED:20260318T205316Z
UID:10003810-1829203200-1829206800@www.standrews.net
SUMMARY:Holy Eucharist: Rite I (Nave)
DESCRIPTION:
URL:https://www.standrews.net/event/holy-eucharist-rite-i-nave-112/
END:VEVENT
BEGIN:VEVENT
DTSTART;TZID=America/New_York:20271219T100000
DTEND;TZID=America/New_York:20271219T111500
DTSTAMP:20260420T173833
CREATED:20251219T180817Z
LAST-MODIFIED:20260318T205316Z
UID:10003811-1829210400-1829214900@www.standrews.net
SUMMARY:Holy Eucharist: Rite II (Nave)
DESCRIPTION:
URL:https://www.standrews.net/event/holy-eucharist-rite-ii-nave-20/
END:VEVENT
BEGIN:VEVENT
DTSTART;TZID=America/New_York:20271221T190000
DTEND;TZID=America/New_York:20271221T203000
DTSTAMP:20260420T173833
CREATED:20251222T183830Z
LAST-MODIFIED:20260318T205316Z
UID:10003812-1829415600-1829421000@www.standrews.net
SUMMARY:AA Meeting (MPR)
DESCRIPTION:
URL:https://www.standrews.net/event/aa-meeting-mpr-20/
END:VEVENT
BEGIN:VEVENT
DTSTART;TZID=America/New_York:20271222T093000
DTEND;TZID=America/New_York:20271222T101000
DTSTAMP:20260420T173833
CREATED:20251222T183830Z
LAST-MODIFIED:20260318T205316Z
UID:10003813-1829467800-1829470200@www.standrews.net
SUMMARY:Holy Eucharist: Rite II (Chapel)
DESCRIPTION:
URL:https://www.standrews.net/event/holy-eucharist-rite-ii-chapel-29/
END:VEVENT
BEGIN:VEVENT
DTSTART;TZID=America/New_York:20271222T130000
DTEND;TZID=America/New_York:20271222T140000
DTSTAMP:20260420T173833
CREATED:20260315T203817Z
LAST-MODIFIED:20260318T205316Z
UID:10004128-1829480400-1829484000@www.standrews.net
SUMMARY:Staff Meeting (Conference Room)
DESCRIPTION:St. A’s Zoom: https://us02web.zoom.us/j/89396581796?pwd=Aia20FVRBdgeR1iGTzzu9Dagnfi8S9.1 \nWill’s Zoom: https://us06web.zoom.us/j/83455041284?pwd=Svr2vBbBiDaaxR8B5uGBT3bPScIKZa.1
URL:https://www.standrews.net/event/staff-meeting-conference-room-82/
END:VEVENT
BEGIN:VEVENT
DTSTART;TZID=America/New_York:20271224T130000
DTEND;TZID=America/New_York:20271224T140000
DTSTAMP:20260420T173833
CREATED:20251224T183817Z
LAST-MODIFIED:20260318T205317Z
UID:10003814-1829653200-1829656800@www.standrews.net
SUMMARY:Peace Islamic Center (Parish Hall)
DESCRIPTION:
URL:https://www.standrews.net/event/peace-islamic-center-parish-hall-20/
END:VEVENT
BEGIN:VEVENT
DTSTART;TZID=America/New_York:20271224T160000
DTEND;TZID=America/New_York:20271224T173000
DTSTAMP:20260420T173833
CREATED:20251224T183817Z
LAST-MODIFIED:20260318T205317Z
UID:10003815-1829664000-1829669400@www.standrews.net
SUMMARY:Pageant & Holy Eucharist II Service
DESCRIPTION:
URL:https://www.standrews.net/event/pageant-holy-eucharist-ii-service/
END:VEVENT
BEGIN:VEVENT
DTSTART;TZID=America/New_York:20271224T200000
DTEND;TZID=America/New_York:20271224T210000
DTSTAMP:20260420T173833
CREATED:20251225T185319Z
LAST-MODIFIED:20260318T205317Z
UID:10003817-1829678400-1829682000@www.standrews.net
SUMMARY:AA Meeting (Conference Room)
DESCRIPTION:
URL:https://www.standrews.net/event/aa-meeting-conference-room-21/
END:VEVENT
BEGIN:VEVENT
DTSTART;TZID=America/New_York:20271224T203000
DTEND;TZID=America/New_York:20271224T210000
DTSTAMP:20260420T173833
CREATED:20251225T185319Z
LAST-MODIFIED:20260318T205317Z
UID:10003818-1829680200-1829682000@www.standrews.net
SUMMARY:Christmas Prelude/Carols (Nave)
DESCRIPTION:
URL:https://www.standrews.net/event/christmas-prelude-carols-nave-5/
END:VEVENT
BEGIN:VEVENT
DTSTART;TZID=America/New_York:20271224T210000
DTEND;TZID=America/New_York:20271224T223000
DTSTAMP:20260420T173833
CREATED:20251225T185318Z
LAST-MODIFIED:20260318T205317Z
UID:10003816-1829682000-1829687400@www.standrews.net
SUMMARY:Holy Eucharist II Service
DESCRIPTION:
URL:https://www.standrews.net/event/holy-eucharist-ii-service-5/
END:VEVENT
BEGIN:VEVENT
DTSTART;TZID=America/New_York:20271225T151500
DTEND;TZID=America/New_York:20271225T174500
DTSTAMP:20260420T173833
CREATED:20251225T185319Z
LAST-MODIFIED:20260318T205317Z
UID:10003819-1829747700-1829756700@www.standrews.net
SUMMARY:FACETS Hot Meals (Kitchen)
DESCRIPTION:
URL:https://www.standrews.net/event/facets-hot-meals-kitchen-9/
END:VEVENT
BEGIN:VEVENT
DTSTART;TZID=America/New_York:20271225T180000
DTEND;TZID=America/New_York:20271225T190000
DTSTAMP:20260420T173833
CREATED:20251225T185319Z
LAST-MODIFIED:20260318T205317Z
UID:10003820-1829757600-1829761200@www.standrews.net
SUMMARY:Holy Eucharist: Rite II (Chapel)
DESCRIPTION:
URL:https://www.standrews.net/event/holy-eucharist-rite-ii-chapel-30/
END:VEVENT
BEGIN:VEVENT
DTSTART;TZID=America/New_York:20271226T080000
DTEND;TZID=America/New_York:20271226T090000
DTSTAMP:20260420T173833
CREATED:20251226T185338Z
LAST-MODIFIED:20260106T193822Z
UID:10003821-1829808000-1829811600@www.standrews.net
SUMMARY:Holy Eucharist: Rite I (Nave)
DESCRIPTION:
URL:https://www.standrews.net/event/holy-eucharist-rite-i-nave-113/
END:VEVENT
BEGIN:VEVENT
DTSTART;TZID=America/New_York:20271226T100000
DTEND;TZID=America/New_York:20271226T111500
DTSTAMP:20260420T173833
CREATED:20251226T185338Z
LAST-MODIFIED:20260106T193822Z
UID:10003822-1829815200-1829819700@www.standrews.net
SUMMARY:Holy Eucharist: Rite II (Nave)
DESCRIPTION:
URL:https://www.standrews.net/event/holy-eucharist-rite-ii-nave-21/
END:VEVENT
BEGIN:VEVENT
DTSTART;TZID=America/New_York:20271228T190000
DTEND;TZID=America/New_York:20271228T203000
DTSTAMP:20260420T173833
CREATED:20251229T185335Z
LAST-MODIFIED:20260106T193822Z
UID:10003823-1830020400-1830025800@www.standrews.net
SUMMARY:AA Meeting (MPR)
DESCRIPTION:
URL:https://www.standrews.net/event/aa-meeting-mpr-21/
END:VEVENT
BEGIN:VEVENT
DTSTART;TZID=America/New_York:20271229T093000
DTEND;TZID=America/New_York:20271229T101000
DTSTAMP:20260420T173833
CREATED:20251229T185335Z
LAST-MODIFIED:20260106T193822Z
UID:10003824-1830072600-1830075000@www.standrews.net
SUMMARY:Holy Eucharist: Rite II (Chapel)
DESCRIPTION:
URL:https://www.standrews.net/event/holy-eucharist-rite-ii-chapel-31/
END:VEVENT
BEGIN:VEVENT
DTSTART;TZID=America/New_York:20271231T130000
DTEND;TZID=America/New_York:20271231T140000
DTSTAMP:20260420T173833
CREATED:20251231T185311Z
LAST-MODIFIED:20260106T193822Z
UID:10003825-1830258000-1830261600@www.standrews.net
SUMMARY:Peace Islamic Center (Parish Hall)
DESCRIPTION:
URL:https://www.standrews.net/event/peace-islamic-center-parish-hall-21/
END:VEVENT
BEGIN:VEVENT
DTSTART;TZID=America/New_York:20271231T200000
DTEND;TZID=America/New_York:20271231T210000
DTSTAMP:20260420T173833
CREATED:20260101T185332Z
LAST-MODIFIED:20260106T193822Z
UID:10003826-1830283200-1830286800@www.standrews.net
SUMMARY:AA Meeting (Conference Room)
DESCRIPTION:
URL:https://www.standrews.net/event/aa-meeting-conference-room-22/
END:VEVENT
BEGIN:VEVENT
DTSTART;TZID=America/New_York:20280101T151500
DTEND;TZID=America/New_York:20280101T173000
DTSTAMP:20260420T173833
CREATED:20260101T185332Z
LAST-MODIFIED:20260106T193822Z
UID:10003827-1830352500-1830360600@www.standrews.net
SUMMARY:FACETS Hot Meals (Kitchen)
DESCRIPTION:
URL:https://www.standrews.net/event/facets-hot-meals-kitchen-10/
END:VEVENT
BEGIN:VEVENT
DTSTART;TZID=America/New_York:20280101T180000
DTEND;TZID=America/New_York:20280101T190000
DTSTAMP:20260420T173833
CREATED:20260101T185332Z
LAST-MODIFIED:20260106T193822Z
UID:10003828-1830362400-1830366000@www.standrews.net
SUMMARY:Evening Prayer (Chapel)
DESCRIPTION:
URL:https://www.standrews.net/event/evening-prayer-chapel-7/
END:VEVENT
BEGIN:VEVENT
DTSTART;TZID=America/New_York:20280102T080000
DTEND;TZID=America/New_York:20280102T090000
DTSTAMP:20260420T173833
CREATED:20260102T185319Z
LAST-MODIFIED:20260106T193822Z
UID:10003829-1830412800-1830416400@www.standrews.net
SUMMARY:Holy Eucharist: Rite I (Nave)
DESCRIPTION:
URL:https://www.standrews.net/event/holy-eucharist-rite-i-nave-114/
END:VEVENT
BEGIN:VEVENT
DTSTART;TZID=America/New_York:20280102T100000
DTEND;TZID=America/New_York:20280102T111500
DTSTAMP:20260420T173833
CREATED:20260102T185319Z
LAST-MODIFIED:20260106T193822Z
UID:10003830-1830420000-1830424500@www.standrews.net
SUMMARY:Holy Eucharist: Rite II (Nave)
DESCRIPTION:
URL:https://www.standrews.net/event/holy-eucharist-rite-ii-nave-22/
END:VEVENT
BEGIN:VEVENT
DTSTART;TZID=America/New_York:20280104T190000
DTEND;TZID=America/New_York:20280104T203000
DTSTAMP:20260420T173833
CREATED:20260105T193828Z
LAST-MODIFIED:20260106T193823Z
UID:10003832-1830625200-1830630600@www.standrews.net
SUMMARY:AA Meeting (MPR)
DESCRIPTION:
URL:https://www.standrews.net/event/aa-meeting-mpr-22/
END:VEVENT
BEGIN:VEVENT
DTSTART;TZID=America/New_York:20280105T093000
DTEND;TZID=America/New_York:20280105T101000
DTSTAMP:20260420T173833
CREATED:20260105T193828Z
LAST-MODIFIED:20260106T193823Z
UID:10003833-1830677400-1830679800@www.standrews.net
SUMMARY:Holy Eucharist: Rite II (Chapel)
DESCRIPTION:
URL:https://www.standrews.net/event/holy-eucharist-rite-ii-chapel-32/
END:VEVENT
END:VCALENDAR