BEGIN:VCALENDAR
VERSION:2.0
PRODID:-//St. Andrew&#039;s Episcopal Church - ECPv6.15.20//NONSGML v1.0//EN
CALSCALE:GREGORIAN
METHOD:PUBLISH
X-WR-CALNAME:St. Andrew&#039;s Episcopal Church
X-ORIGINAL-URL:https://www.standrews.net
X-WR-CALDESC:Events for St. Andrew&#039;s Episcopal Church
REFRESH-INTERVAL;VALUE=DURATION:PT1H
X-Robots-Tag:noindex
X-PUBLISHED-TTL:PT1H
BEGIN:VTIMEZONE
TZID:America/New_York
BEGIN:DAYLIGHT
TZOFFSETFROM:-0500
TZOFFSETTO:-0400
TZNAME:EDT
DTSTART:20260308T070000
END:DAYLIGHT
BEGIN:STANDARD
TZOFFSETFROM:-0400
TZOFFSETTO:-0500
TZNAME:EST
DTSTART:20261101T060000
END:STANDARD
BEGIN:DAYLIGHT
TZOFFSETFROM:-0500
TZOFFSETTO:-0400
TZNAME:EDT
DTSTART:20270314T070000
END:DAYLIGHT
BEGIN:STANDARD
TZOFFSETFROM:-0400
TZOFFSETTO:-0500
TZNAME:EST
DTSTART:20271107T060000
END:STANDARD
BEGIN:DAYLIGHT
TZOFFSETFROM:-0500
TZOFFSETTO:-0400
TZNAME:EDT
DTSTART:20280312T070000
END:DAYLIGHT
BEGIN:STANDARD
TZOFFSETFROM:-0400
TZOFFSETTO:-0500
TZNAME:EST
DTSTART:20281105T060000
END:STANDARD
END:VTIMEZONE
BEGIN:VEVENT
DTSTART;TZID=America/New_York:20270314T080000
DTEND;TZID=America/New_York:20270314T090000
DTSTAMP:20260420T072711
CREATED:20250731T194746Z
LAST-MODIFIED:20260318T205248Z
UID:10003100-1805011200-1805014800@www.standrews.net
SUMMARY:Holy Eucharist: Rite I (Nave)
DESCRIPTION:
URL:https://www.standrews.net/event/holy-eucharist-rite-i-nave-76/
END:VEVENT
BEGIN:VEVENT
DTSTART;TZID=America/New_York:20270314T100000
DTEND;TZID=America/New_York:20270314T111500
DTSTAMP:20260420T072711
CREATED:20250731T194746Z
LAST-MODIFIED:20260318T205248Z
UID:10003101-1805018400-1805022900@www.standrews.net
SUMMARY:Holy Eucharist: Rite II (Nave)
DESCRIPTION:
URL:https://www.standrews.net/event/holy-eucharist-rite-ii-nave-172/
END:VEVENT
BEGIN:VEVENT
DTSTART;TZID=America/New_York:20270316T190000
DTEND;TZID=America/New_York:20270316T203000
DTSTAMP:20260420T072711
CREATED:20250731T194746Z
LAST-MODIFIED:20260318T205248Z
UID:10003102-1805223600-1805229000@www.standrews.net
SUMMARY:AA Meeting (MPR)
DESCRIPTION:
URL:https://www.standrews.net/event/aa-meeting-mpr-168/
END:VEVENT
BEGIN:VEVENT
DTSTART;TZID=America/New_York:20270317T093000
DTEND;TZID=America/New_York:20270317T101000
DTSTAMP:20260420T072711
CREATED:20250731T194746Z
LAST-MODIFIED:20260318T205248Z
UID:10003103-1805275800-1805278200@www.standrews.net
SUMMARY:Holy Eucharist: Rite II (Chapel)
DESCRIPTION:
URL:https://www.standrews.net/event/holy-eucharist-rite-ii-chapel-244/
END:VEVENT
BEGIN:VEVENT
DTSTART;TZID=America/New_York:20270317T130000
DTEND;TZID=America/New_York:20270317T140000
DTSTAMP:20260420T072711
CREATED:20260107T193802Z
LAST-MODIFIED:20260318T205248Z
UID:10003901-1805288400-1805292000@www.standrews.net
SUMMARY:Staff Meeting (Conference Room)
DESCRIPTION:St. A’s Zoom: https://us02web.zoom.us/j/89396581796?pwd=Aia20FVRBdgeR1iGTzzu9Dagnfi8S9.1 \nWill’s Zoom: https://us06web.zoom.us/j/83455041284?pwd=Svr2vBbBiDaaxR8B5uGBT3bPScIKZa.1
URL:https://www.standrews.net/event/staff-meeting-conference-room-95/
END:VEVENT
BEGIN:VEVENT
DTSTART;TZID=America/New_York:20270319T130000
DTEND;TZID=America/New_York:20270319T140000
DTSTAMP:20260420T072711
CREATED:20250731T194747Z
LAST-MODIFIED:20260318T205248Z
UID:10003104-1805461200-1805464800@www.standrews.net
SUMMARY:Peace Islamic Center (Parish Hall)
DESCRIPTION:
URL:https://www.standrews.net/event/peace-islamic-center-parish-hall-169/
END:VEVENT
BEGIN:VEVENT
DTSTART;TZID=America/New_York:20270319T200000
DTEND;TZID=America/New_York:20270319T210000
DTSTAMP:20260420T072711
CREATED:20250731T194747Z
LAST-MODIFIED:20260318T205248Z
UID:10003105-1805486400-1805490000@www.standrews.net
SUMMARY:AA Meeting (Conference Room)
DESCRIPTION:
URL:https://www.standrews.net/event/aa-meeting-conference-room-168/
END:VEVENT
BEGIN:VEVENT
DTSTART;TZID=America/New_York:20270320T180000
DTEND;TZID=America/New_York:20270320T190000
DTSTAMP:20260420T072711
CREATED:20250731T194747Z
LAST-MODIFIED:20260318T205248Z
UID:10003106-1805565600-1805569200@www.standrews.net
SUMMARY:Taizé (Nave)
DESCRIPTION:
URL:https://www.standrews.net/event/taize-nave-38/
END:VEVENT
END:VCALENDAR