BEGIN:VCALENDAR
VERSION:2.0
PRODID:-//St. Andrew&#039;s Episcopal Church - ECPv6.15.20//NONSGML v1.0//EN
CALSCALE:GREGORIAN
METHOD:PUBLISH
X-ORIGINAL-URL:https://www.standrews.net
X-WR-CALDESC:Events for St. Andrew&#039;s Episcopal Church
REFRESH-INTERVAL;VALUE=DURATION:PT1H
X-Robots-Tag:noindex
X-PUBLISHED-TTL:PT1H
BEGIN:VTIMEZONE
TZID:America/New_York
BEGIN:DAYLIGHT
TZOFFSETFROM:-0500
TZOFFSETTO:-0400
TZNAME:EDT
DTSTART:20260308T070000
END:DAYLIGHT
BEGIN:STANDARD
TZOFFSETFROM:-0400
TZOFFSETTO:-0500
TZNAME:EST
DTSTART:20261101T060000
END:STANDARD
BEGIN:DAYLIGHT
TZOFFSETFROM:-0500
TZOFFSETTO:-0400
TZNAME:EDT
DTSTART:20270314T070000
END:DAYLIGHT
BEGIN:STANDARD
TZOFFSETFROM:-0400
TZOFFSETTO:-0500
TZNAME:EST
DTSTART:20271107T060000
END:STANDARD
BEGIN:DAYLIGHT
TZOFFSETFROM:-0500
TZOFFSETTO:-0400
TZNAME:EDT
DTSTART:20280312T070000
END:DAYLIGHT
BEGIN:STANDARD
TZOFFSETFROM:-0400
TZOFFSETTO:-0500
TZNAME:EST
DTSTART:20281105T060000
END:STANDARD
END:VTIMEZONE
BEGIN:VEVENT
DTSTART;TZID=America/New_York:20270321T080000
DTEND;TZID=America/New_York:20270321T090000
DTSTAMP:20260420T091229
CREATED:20250731T194747Z
LAST-MODIFIED:20260318T205248Z
UID:10003107-1805616000-1805619600@www.standrews.net
SUMMARY:Holy Eucharist: Rite I (Nave)
DESCRIPTION:
URL:https://www.standrews.net/event/holy-eucharist-rite-i-nave-77/
END:VEVENT
BEGIN:VEVENT
DTSTART;TZID=America/New_York:20270321T100000
DTEND;TZID=America/New_York:20270321T111500
DTSTAMP:20260420T091229
CREATED:20250731T194747Z
LAST-MODIFIED:20260318T205248Z
UID:10003108-1805623200-1805627700@www.standrews.net
SUMMARY:Holy Eucharist: Rite II (Nave)
DESCRIPTION:
URL:https://www.standrews.net/event/holy-eucharist-rite-ii-nave-173/
END:VEVENT
BEGIN:VEVENT
DTSTART;TZID=America/New_York:20270323T190000
DTEND;TZID=America/New_York:20270323T203000
DTSTAMP:20260420T091229
CREATED:20250731T194747Z
LAST-MODIFIED:20260318T205248Z
UID:10003109-1805828400-1805833800@www.standrews.net
SUMMARY:AA Meeting (MPR)
DESCRIPTION:
URL:https://www.standrews.net/event/aa-meeting-mpr-169/
END:VEVENT
BEGIN:VEVENT
DTSTART;TZID=America/New_York:20270324T093000
DTEND;TZID=America/New_York:20270324T101000
DTSTAMP:20260420T091229
CREATED:20250731T194748Z
LAST-MODIFIED:20260318T205248Z
UID:10003110-1805880600-1805883000@www.standrews.net
SUMMARY:Holy Eucharist: Rite II (Chapel)
DESCRIPTION:
URL:https://www.standrews.net/event/holy-eucharist-rite-ii-chapel-245/
END:VEVENT
BEGIN:VEVENT
DTSTART;TZID=America/New_York:20270324T130000
DTEND;TZID=America/New_York:20270324T140000
DTSTAMP:20260420T091229
CREATED:20260107T193803Z
LAST-MODIFIED:20260318T205248Z
UID:10003902-1805893200-1805896800@www.standrews.net
SUMMARY:Staff Meeting (Conference Room)
DESCRIPTION:St. A’s Zoom: https://us02web.zoom.us/j/89396581796?pwd=Aia20FVRBdgeR1iGTzzu9Dagnfi8S9.1 \nWill’s Zoom: https://us06web.zoom.us/j/83455041284?pwd=Svr2vBbBiDaaxR8B5uGBT3bPScIKZa.1
URL:https://www.standrews.net/event/staff-meeting-conference-room-96/
END:VEVENT
BEGIN:VEVENT
DTSTART;TZID=America/New_York:20270326T130000
DTEND;TZID=America/New_York:20270326T140000
DTSTAMP:20260420T091229
CREATED:20250731T194748Z
LAST-MODIFIED:20260318T205249Z
UID:10003111-1806066000-1806069600@www.standrews.net
SUMMARY:Peace Islamic Center (Parish Hall)
DESCRIPTION:
URL:https://www.standrews.net/event/peace-islamic-center-parish-hall-170/
END:VEVENT
BEGIN:VEVENT
DTSTART;TZID=America/New_York:20270326T200000
DTEND;TZID=America/New_York:20270326T210000
DTSTAMP:20260420T091229
CREATED:20250731T194748Z
LAST-MODIFIED:20260318T205249Z
UID:10003112-1806091200-1806094800@www.standrews.net
SUMMARY:AA Meeting (Conference Room)
DESCRIPTION:
URL:https://www.standrews.net/event/aa-meeting-conference-room-169/
END:VEVENT
BEGIN:VEVENT
DTSTART;TZID=America/New_York:20270327T151500
DTEND;TZID=America/New_York:20270327T174500
DTSTAMP:20260420T091229
CREATED:20250731T194748Z
LAST-MODIFIED:20260318T205249Z
UID:10003113-1806160500-1806169500@www.standrews.net
SUMMARY:FACETS Hot Meals (Kitchen)
DESCRIPTION:
URL:https://www.standrews.net/event/facets-hot-meals-kitchen-78/
END:VEVENT
BEGIN:VEVENT
DTSTART;TZID=America/New_York:20270327T180000
DTEND;TZID=America/New_York:20270327T190000
DTSTAMP:20260420T091229
CREATED:20250731T194748Z
LAST-MODIFIED:20260318T205249Z
UID:10003114-1806170400-1806174000@www.standrews.net
SUMMARY:Holy Eucharist: Rite II (Chapel)
DESCRIPTION:
URL:https://www.standrews.net/event/holy-eucharist-rite-ii-chapel-246/
END:VEVENT
END:VCALENDAR