BEGIN:VCALENDAR
VERSION:2.0
PRODID:-//St. Andrew&#039;s Episcopal Church - ECPv6.15.20//NONSGML v1.0//EN
CALSCALE:GREGORIAN
METHOD:PUBLISH
X-ORIGINAL-URL:https://www.standrews.net
X-WR-CALDESC:Events for St. Andrew&#039;s Episcopal Church
REFRESH-INTERVAL;VALUE=DURATION:PT1H
X-Robots-Tag:noindex
X-PUBLISHED-TTL:PT1H
BEGIN:VTIMEZONE
TZID:America/New_York
BEGIN:DAYLIGHT
TZOFFSETFROM:-0500
TZOFFSETTO:-0400
TZNAME:EDT
DTSTART:20260308T070000
END:DAYLIGHT
BEGIN:STANDARD
TZOFFSETFROM:-0400
TZOFFSETTO:-0500
TZNAME:EST
DTSTART:20261101T060000
END:STANDARD
BEGIN:DAYLIGHT
TZOFFSETFROM:-0500
TZOFFSETTO:-0400
TZNAME:EDT
DTSTART:20270314T070000
END:DAYLIGHT
BEGIN:STANDARD
TZOFFSETFROM:-0400
TZOFFSETTO:-0500
TZNAME:EST
DTSTART:20271107T060000
END:STANDARD
BEGIN:DAYLIGHT
TZOFFSETFROM:-0500
TZOFFSETTO:-0400
TZNAME:EDT
DTSTART:20280312T070000
END:DAYLIGHT
BEGIN:STANDARD
TZOFFSETFROM:-0400
TZOFFSETTO:-0500
TZNAME:EST
DTSTART:20281105T060000
END:STANDARD
END:VTIMEZONE
BEGIN:VEVENT
DTSTART;TZID=America/New_York:20270328T080000
DTEND;TZID=America/New_York:20270328T090000
DTSTAMP:20260420T091234
CREATED:20250731T194748Z
LAST-MODIFIED:20260318T205249Z
UID:10003115-1806220800-1806224400@www.standrews.net
SUMMARY:Holy Eucharist: Rite I (Nave)
DESCRIPTION:
URL:https://www.standrews.net/event/holy-eucharist-rite-i-nave-78/
END:VEVENT
BEGIN:VEVENT
DTSTART;TZID=America/New_York:20270328T100000
DTEND;TZID=America/New_York:20270328T111500
DTSTAMP:20260420T091234
CREATED:20250731T194749Z
LAST-MODIFIED:20260318T205249Z
UID:10003116-1806228000-1806232500@www.standrews.net
SUMMARY:Holy Eucharist: Rite II (Nave)
DESCRIPTION:
URL:https://www.standrews.net/event/holy-eucharist-rite-ii-nave-174/
END:VEVENT
BEGIN:VEVENT
DTSTART;TZID=America/New_York:20270330T190000
DTEND;TZID=America/New_York:20270330T203000
DTSTAMP:20260420T091234
CREATED:20250731T194749Z
LAST-MODIFIED:20260318T205249Z
UID:10003117-1806433200-1806438600@www.standrews.net
SUMMARY:AA Meeting (MPR)
DESCRIPTION:
URL:https://www.standrews.net/event/aa-meeting-mpr-170/
END:VEVENT
BEGIN:VEVENT
DTSTART;TZID=America/New_York:20270331T093000
DTEND;TZID=America/New_York:20270331T101000
DTSTAMP:20260420T091234
CREATED:20250731T194749Z
LAST-MODIFIED:20260318T205249Z
UID:10003118-1806485400-1806487800@www.standrews.net
SUMMARY:Holy Eucharist: Rite II (Chapel)
DESCRIPTION:
URL:https://www.standrews.net/event/holy-eucharist-rite-ii-chapel-247/
END:VEVENT
BEGIN:VEVENT
DTSTART;TZID=America/New_York:20270331T130000
DTEND;TZID=America/New_York:20270331T140000
DTSTAMP:20260420T091234
CREATED:20260107T193803Z
LAST-MODIFIED:20260318T205249Z
UID:10003903-1806498000-1806501600@www.standrews.net
SUMMARY:Staff Meeting (Conference Room)
DESCRIPTION:St. A’s Zoom: https://us02web.zoom.us/j/89396581796?pwd=Aia20FVRBdgeR1iGTzzu9Dagnfi8S9.1 \nWill’s Zoom: https://us06web.zoom.us/j/83455041284?pwd=Svr2vBbBiDaaxR8B5uGBT3bPScIKZa.1
URL:https://www.standrews.net/event/staff-meeting-conference-room-97/
END:VEVENT
BEGIN:VEVENT
DTSTART;TZID=America/New_York:20270402T130000
DTEND;TZID=America/New_York:20270402T140000
DTSTAMP:20260420T091234
CREATED:20250731T194749Z
LAST-MODIFIED:20260318T205249Z
UID:10003119-1806670800-1806674400@www.standrews.net
SUMMARY:Peace Islamic Center (Parish Hall)
DESCRIPTION:
URL:https://www.standrews.net/event/peace-islamic-center-parish-hall-171/
END:VEVENT
BEGIN:VEVENT
DTSTART;TZID=America/New_York:20270402T200000
DTEND;TZID=America/New_York:20270402T210000
DTSTAMP:20260420T091234
CREATED:20250731T194749Z
LAST-MODIFIED:20260318T205249Z
UID:10003120-1806696000-1806699600@www.standrews.net
SUMMARY:AA Meeting (Conference Room)
DESCRIPTION:
URL:https://www.standrews.net/event/aa-meeting-conference-room-170/
END:VEVENT
BEGIN:VEVENT
DTSTART;TZID=America/New_York:20270403T151500
DTEND;TZID=America/New_York:20270403T173000
DTSTAMP:20260420T091234
CREATED:20250731T194750Z
LAST-MODIFIED:20260318T205249Z
UID:10003121-1806765300-1806773400@www.standrews.net
SUMMARY:FACETS Hot Meals (Kitchen)
DESCRIPTION:
URL:https://www.standrews.net/event/facets-hot-meals-kitchen-79/
END:VEVENT
BEGIN:VEVENT
DTSTART;TZID=America/New_York:20270403T180000
DTEND;TZID=America/New_York:20270403T190000
DTSTAMP:20260420T091234
CREATED:20250731T194750Z
LAST-MODIFIED:20260318T205250Z
UID:10003122-1806775200-1806778800@www.standrews.net
SUMMARY:Evening Prayer (Chapel)
DESCRIPTION:
URL:https://www.standrews.net/event/evening-prayer-chapel-46/
END:VEVENT
END:VCALENDAR