BEGIN:VCALENDAR
VERSION:2.0
PRODID:-//St. Andrew&#039;s Episcopal Church - ECPv6.15.20//NONSGML v1.0//EN
CALSCALE:GREGORIAN
METHOD:PUBLISH
X-WR-CALNAME:St. Andrew&#039;s Episcopal Church
X-ORIGINAL-URL:https://www.standrews.net
X-WR-CALDESC:Events for St. Andrew&#039;s Episcopal Church
REFRESH-INTERVAL;VALUE=DURATION:PT1H
X-Robots-Tag:noindex
X-PUBLISHED-TTL:PT1H
BEGIN:VTIMEZONE
TZID:America/New_York
BEGIN:DAYLIGHT
TZOFFSETFROM:-0500
TZOFFSETTO:-0400
TZNAME:EDT
DTSTART:20260308T070000
END:DAYLIGHT
BEGIN:STANDARD
TZOFFSETFROM:-0400
TZOFFSETTO:-0500
TZNAME:EST
DTSTART:20261101T060000
END:STANDARD
BEGIN:DAYLIGHT
TZOFFSETFROM:-0500
TZOFFSETTO:-0400
TZNAME:EDT
DTSTART:20270314T070000
END:DAYLIGHT
BEGIN:STANDARD
TZOFFSETFROM:-0400
TZOFFSETTO:-0500
TZNAME:EST
DTSTART:20271107T060000
END:STANDARD
BEGIN:DAYLIGHT
TZOFFSETFROM:-0500
TZOFFSETTO:-0400
TZNAME:EDT
DTSTART:20280312T070000
END:DAYLIGHT
BEGIN:STANDARD
TZOFFSETFROM:-0400
TZOFFSETTO:-0500
TZNAME:EST
DTSTART:20281105T060000
END:STANDARD
END:VTIMEZONE
BEGIN:VEVENT
DTSTART;TZID=America/New_York:20270404T080000
DTEND;TZID=America/New_York:20270404T090000
DTSTAMP:20260420T102628
CREATED:20250731T194750Z
LAST-MODIFIED:20260318T205250Z
UID:10003123-1806825600-1806829200@www.standrews.net
SUMMARY:Holy Eucharist: Rite I (Nave)
DESCRIPTION:
URL:https://www.standrews.net/event/holy-eucharist-rite-i-nave-79/
END:VEVENT
BEGIN:VEVENT
DTSTART;TZID=America/New_York:20270404T100000
DTEND;TZID=America/New_York:20270404T111500
DTSTAMP:20260420T102628
CREATED:20250731T194750Z
LAST-MODIFIED:20260318T205250Z
UID:10003124-1806832800-1806837300@www.standrews.net
SUMMARY:Holy Eucharist: Rite II (Nave)
DESCRIPTION:
URL:https://www.standrews.net/event/holy-eucharist-rite-ii-nave-175/
END:VEVENT
BEGIN:VEVENT
DTSTART;TZID=America/New_York:20270406T190000
DTEND;TZID=America/New_York:20270406T203000
DTSTAMP:20260420T102628
CREATED:20250731T194750Z
LAST-MODIFIED:20260318T205250Z
UID:10003125-1807038000-1807043400@www.standrews.net
SUMMARY:AA Meeting (MPR)
DESCRIPTION:
URL:https://www.standrews.net/event/aa-meeting-mpr-171/
END:VEVENT
BEGIN:VEVENT
DTSTART;TZID=America/New_York:20270407T093000
DTEND;TZID=America/New_York:20270407T101000
DTSTAMP:20260420T102628
CREATED:20250731T194750Z
LAST-MODIFIED:20260318T205250Z
UID:10003126-1807090200-1807092600@www.standrews.net
SUMMARY:Holy Eucharist: Rite II (Chapel)
DESCRIPTION:
URL:https://www.standrews.net/event/holy-eucharist-rite-ii-chapel-248/
END:VEVENT
BEGIN:VEVENT
DTSTART;TZID=America/New_York:20270407T130000
DTEND;TZID=America/New_York:20270407T140000
DTSTAMP:20260420T102628
CREATED:20260107T193804Z
LAST-MODIFIED:20260318T205250Z
UID:10003904-1807102800-1807106400@www.standrews.net
SUMMARY:Staff Meeting (Conference Room)
DESCRIPTION:St. A’s Zoom: https://us02web.zoom.us/j/89396581796?pwd=Aia20FVRBdgeR1iGTzzu9Dagnfi8S9.1 \nWill’s Zoom: https://us06web.zoom.us/j/83455041284?pwd=Svr2vBbBiDaaxR8B5uGBT3bPScIKZa.1
URL:https://www.standrews.net/event/staff-meeting-conference-room-98/
END:VEVENT
BEGIN:VEVENT
DTSTART;TZID=America/New_York:20270408T190000
DTEND;TZID=America/New_York:20270408T210000
DTSTAMP:20260420T102628
CREATED:20250731T194751Z
LAST-MODIFIED:20260217T170633Z
UID:10003127-1807210800-1807218000@www.standrews.net
SUMMARY:Property Resource Committee Meeting (Conference Room)
DESCRIPTION:
URL:https://www.standrews.net/event/property-resource-committee-meeting-conference-room-40/
END:VEVENT
BEGIN:VEVENT
DTSTART;TZID=America/New_York:20270409T130000
DTEND;TZID=America/New_York:20270409T140000
DTSTAMP:20260420T102628
CREATED:20250731T194751Z
LAST-MODIFIED:20260318T205250Z
UID:10003128-1807275600-1807279200@www.standrews.net
SUMMARY:Peace Islamic Center (Parish Hall)
DESCRIPTION:
URL:https://www.standrews.net/event/peace-islamic-center-parish-hall-172/
END:VEVENT
BEGIN:VEVENT
DTSTART;TZID=America/New_York:20270409T200000
DTEND;TZID=America/New_York:20270409T210000
DTSTAMP:20260420T102628
CREATED:20250731T194751Z
LAST-MODIFIED:20260318T205250Z
UID:10003129-1807300800-1807304400@www.standrews.net
SUMMARY:AA Meeting (Conference Room)
DESCRIPTION:
URL:https://www.standrews.net/event/aa-meeting-conference-room-171/
END:VEVENT
BEGIN:VEVENT
DTSTART;TZID=America/New_York:20270410T180000
DTEND;TZID=America/New_York:20270410T190000
DTSTAMP:20260420T102628
CREATED:20250731T194751Z
LAST-MODIFIED:20260318T205250Z
UID:10003130-1807380000-1807383600@www.standrews.net
SUMMARY:Holy Eucharist: Rite II (Chapel)
DESCRIPTION:
URL:https://www.standrews.net/event/holy-eucharist-rite-ii-chapel-249/
END:VEVENT
END:VCALENDAR