BEGIN:VCALENDAR
VERSION:2.0
PRODID:-//St. Andrew&#039;s Episcopal Church - ECPv6.15.20//NONSGML v1.0//EN
CALSCALE:GREGORIAN
METHOD:PUBLISH
X-WR-CALNAME:St. Andrew&#039;s Episcopal Church
X-ORIGINAL-URL:https://www.standrews.net
X-WR-CALDESC:Events for St. Andrew&#039;s Episcopal Church
REFRESH-INTERVAL;VALUE=DURATION:PT1H
X-Robots-Tag:noindex
X-PUBLISHED-TTL:PT1H
BEGIN:VTIMEZONE
TZID:America/New_York
BEGIN:DAYLIGHT
TZOFFSETFROM:-0500
TZOFFSETTO:-0400
TZNAME:EDT
DTSTART:20260308T070000
END:DAYLIGHT
BEGIN:STANDARD
TZOFFSETFROM:-0400
TZOFFSETTO:-0500
TZNAME:EST
DTSTART:20261101T060000
END:STANDARD
BEGIN:DAYLIGHT
TZOFFSETFROM:-0500
TZOFFSETTO:-0400
TZNAME:EDT
DTSTART:20270314T070000
END:DAYLIGHT
BEGIN:STANDARD
TZOFFSETFROM:-0400
TZOFFSETTO:-0500
TZNAME:EST
DTSTART:20271107T060000
END:STANDARD
BEGIN:DAYLIGHT
TZOFFSETFROM:-0500
TZOFFSETTO:-0400
TZNAME:EDT
DTSTART:20280312T070000
END:DAYLIGHT
BEGIN:STANDARD
TZOFFSETFROM:-0400
TZOFFSETTO:-0500
TZNAME:EST
DTSTART:20281105T060000
END:STANDARD
END:VTIMEZONE
BEGIN:VEVENT
DTSTART;TZID=America/New_York:20270411T080000
DTEND;TZID=America/New_York:20270411T090000
DTSTAMP:20260420T102627
CREATED:20250731T194751Z
LAST-MODIFIED:20260318T205250Z
UID:10003131-1807430400-1807434000@www.standrews.net
SUMMARY:Holy Eucharist: Rite I (Nave)
DESCRIPTION:
URL:https://www.standrews.net/event/holy-eucharist-rite-i-nave-80/
END:VEVENT
BEGIN:VEVENT
DTSTART;TZID=America/New_York:20270411T100000
DTEND;TZID=America/New_York:20270411T111500
DTSTAMP:20260420T102627
CREATED:20250731T194751Z
LAST-MODIFIED:20260318T205250Z
UID:10003132-1807437600-1807442100@www.standrews.net
SUMMARY:Holy Eucharist: Rite II (Nave)
DESCRIPTION:
URL:https://www.standrews.net/event/holy-eucharist-rite-ii-nave-176/
END:VEVENT
BEGIN:VEVENT
DTSTART;TZID=America/New_York:20270412T190000
DTEND;TZID=America/New_York:20270412T210000
DTSTAMP:20260420T102627
CREATED:20250731T194752Z
LAST-MODIFIED:20260318T205250Z
UID:10003133-1807556400-1807563600@www.standrews.net
SUMMARY:Vestry Meeting (Conference Room)
DESCRIPTION:
URL:https://www.standrews.net/event/vestry-meeting-conference-room-39/
END:VEVENT
BEGIN:VEVENT
DTSTART;TZID=America/New_York:20270413T190000
DTEND;TZID=America/New_York:20270413T203000
DTSTAMP:20260420T102627
CREATED:20250731T194752Z
LAST-MODIFIED:20260318T205250Z
UID:10003134-1807642800-1807648200@www.standrews.net
SUMMARY:AA Meeting (MPR)
DESCRIPTION:
URL:https://www.standrews.net/event/aa-meeting-mpr-172/
END:VEVENT
BEGIN:VEVENT
DTSTART;TZID=America/New_York:20270414T093000
DTEND;TZID=America/New_York:20270414T101000
DTSTAMP:20260420T102627
CREATED:20250731T194752Z
LAST-MODIFIED:20260318T205250Z
UID:10003135-1807695000-1807697400@www.standrews.net
SUMMARY:Holy Eucharist: Rite II (Chapel)
DESCRIPTION:
URL:https://www.standrews.net/event/holy-eucharist-rite-ii-chapel-250/
END:VEVENT
BEGIN:VEVENT
DTSTART;TZID=America/New_York:20270414T130000
DTEND;TZID=America/New_York:20270414T140000
DTSTAMP:20260420T102627
CREATED:20260107T193805Z
LAST-MODIFIED:20260318T205251Z
UID:10003905-1807707600-1807711200@www.standrews.net
SUMMARY:Staff Meeting (Conference Room)
DESCRIPTION:St. A’s Zoom: https://us02web.zoom.us/j/89396581796?pwd=Aia20FVRBdgeR1iGTzzu9Dagnfi8S9.1 \nWill’s Zoom: https://us06web.zoom.us/j/83455041284?pwd=Svr2vBbBiDaaxR8B5uGBT3bPScIKZa.1
URL:https://www.standrews.net/event/staff-meeting-conference-room-99/
END:VEVENT
BEGIN:VEVENT
DTSTART;TZID=America/New_York:20270414T190000
DTEND;TZID=America/New_York:20270414T210000
DTSTAMP:20260420T102627
CREATED:20260218T170818Z
LAST-MODIFIED:20260318T205251Z
UID:10004083-1807729200-1807736400@www.standrews.net
SUMMARY:Property Resource Committee Meeting (Conference Room)
DESCRIPTION:
URL:https://www.standrews.net/event/property-resource-committee-meeting-conference-room-19/
END:VEVENT
BEGIN:VEVENT
DTSTART;TZID=America/New_York:20270416T130000
DTEND;TZID=America/New_York:20270416T140000
DTSTAMP:20260420T102627
CREATED:20250731T194752Z
LAST-MODIFIED:20260318T205251Z
UID:10003136-1807880400-1807884000@www.standrews.net
SUMMARY:Peace Islamic Center (Parish Hall)
DESCRIPTION:
URL:https://www.standrews.net/event/peace-islamic-center-parish-hall-173/
END:VEVENT
BEGIN:VEVENT
DTSTART;TZID=America/New_York:20270416T200000
DTEND;TZID=America/New_York:20270416T210000
DTSTAMP:20260420T102627
CREATED:20250731T194752Z
LAST-MODIFIED:20260318T205251Z
UID:10003137-1807905600-1807909200@www.standrews.net
SUMMARY:AA Meeting (Conference Room)
DESCRIPTION:
URL:https://www.standrews.net/event/aa-meeting-conference-room-172/
END:VEVENT
BEGIN:VEVENT
DTSTART;TZID=America/New_York:20270417T180000
DTEND;TZID=America/New_York:20270417T190000
DTSTAMP:20260420T102627
CREATED:20250731T194752Z
LAST-MODIFIED:20260318T205251Z
UID:10003138-1807984800-1807988400@www.standrews.net
SUMMARY:Taizé (Nave)
DESCRIPTION:
URL:https://www.standrews.net/event/taize-nave-39/
END:VEVENT
END:VCALENDAR