BEGIN:VCALENDAR
VERSION:2.0
PRODID:-//St. Andrew&#039;s Episcopal Church - ECPv6.15.20//NONSGML v1.0//EN
CALSCALE:GREGORIAN
METHOD:PUBLISH
X-ORIGINAL-URL:https://www.standrews.net
X-WR-CALDESC:Events for St. Andrew&#039;s Episcopal Church
REFRESH-INTERVAL;VALUE=DURATION:PT1H
X-Robots-Tag:noindex
X-PUBLISHED-TTL:PT1H
BEGIN:VTIMEZONE
TZID:America/New_York
BEGIN:DAYLIGHT
TZOFFSETFROM:-0500
TZOFFSETTO:-0400
TZNAME:EDT
DTSTART:20260308T070000
END:DAYLIGHT
BEGIN:STANDARD
TZOFFSETFROM:-0400
TZOFFSETTO:-0500
TZNAME:EST
DTSTART:20261101T060000
END:STANDARD
BEGIN:DAYLIGHT
TZOFFSETFROM:-0500
TZOFFSETTO:-0400
TZNAME:EDT
DTSTART:20270314T070000
END:DAYLIGHT
BEGIN:STANDARD
TZOFFSETFROM:-0400
TZOFFSETTO:-0500
TZNAME:EST
DTSTART:20271107T060000
END:STANDARD
BEGIN:DAYLIGHT
TZOFFSETFROM:-0500
TZOFFSETTO:-0400
TZNAME:EDT
DTSTART:20280312T070000
END:DAYLIGHT
BEGIN:STANDARD
TZOFFSETFROM:-0400
TZOFFSETTO:-0500
TZNAME:EST
DTSTART:20281105T060000
END:STANDARD
END:VTIMEZONE
BEGIN:VEVENT
DTSTART;TZID=America/New_York:20270418T080000
DTEND;TZID=America/New_York:20270418T090000
DTSTAMP:20260420T102752
CREATED:20250731T194753Z
LAST-MODIFIED:20260318T205251Z
UID:10003139-1808035200-1808038800@www.standrews.net
SUMMARY:Holy Eucharist: Rite I (Nave)
DESCRIPTION:
URL:https://www.standrews.net/event/holy-eucharist-rite-i-nave-81/
END:VEVENT
BEGIN:VEVENT
DTSTART;TZID=America/New_York:20270418T100000
DTEND;TZID=America/New_York:20270418T111500
DTSTAMP:20260420T102752
CREATED:20250731T194753Z
LAST-MODIFIED:20260318T205251Z
UID:10003140-1808042400-1808046900@www.standrews.net
SUMMARY:Holy Eucharist: Rite II (Nave)
DESCRIPTION:
URL:https://www.standrews.net/event/holy-eucharist-rite-ii-nave-177/
END:VEVENT
BEGIN:VEVENT
DTSTART;TZID=America/New_York:20270420T190000
DTEND;TZID=America/New_York:20270420T203000
DTSTAMP:20260420T102752
CREATED:20250731T194753Z
LAST-MODIFIED:20260318T205251Z
UID:10003141-1808247600-1808253000@www.standrews.net
SUMMARY:AA Meeting (MPR)
DESCRIPTION:
URL:https://www.standrews.net/event/aa-meeting-mpr-173/
END:VEVENT
BEGIN:VEVENT
DTSTART;TZID=America/New_York:20270421T093000
DTEND;TZID=America/New_York:20270421T101000
DTSTAMP:20260420T102752
CREATED:20250731T194753Z
LAST-MODIFIED:20260318T205251Z
UID:10003142-1808299800-1808302200@www.standrews.net
SUMMARY:Holy Eucharist: Rite II (Chapel)
DESCRIPTION:
URL:https://www.standrews.net/event/holy-eucharist-rite-ii-chapel-251/
END:VEVENT
BEGIN:VEVENT
DTSTART;TZID=America/New_York:20270421T130000
DTEND;TZID=America/New_York:20270421T140000
DTSTAMP:20260420T102752
CREATED:20260107T193805Z
LAST-MODIFIED:20260318T205251Z
UID:10003906-1808312400-1808316000@www.standrews.net
SUMMARY:Staff Meeting (Conference Room)
DESCRIPTION:St. A’s Zoom: https://us02web.zoom.us/j/89396581796?pwd=Aia20FVRBdgeR1iGTzzu9Dagnfi8S9.1 \nWill’s Zoom: https://us06web.zoom.us/j/83455041284?pwd=Svr2vBbBiDaaxR8B5uGBT3bPScIKZa.1
URL:https://www.standrews.net/event/staff-meeting-conference-room-100/
END:VEVENT
BEGIN:VEVENT
DTSTART;TZID=America/New_York:20270423T130000
DTEND;TZID=America/New_York:20270423T140000
DTSTAMP:20260420T102752
CREATED:20250731T194753Z
LAST-MODIFIED:20260318T205251Z
UID:10003143-1808485200-1808488800@www.standrews.net
SUMMARY:Peace Islamic Center (Parish Hall)
DESCRIPTION:
URL:https://www.standrews.net/event/peace-islamic-center-parish-hall-174/
END:VEVENT
BEGIN:VEVENT
DTSTART;TZID=America/New_York:20270423T200000
DTEND;TZID=America/New_York:20270423T210000
DTSTAMP:20260420T102752
CREATED:20250731T194754Z
LAST-MODIFIED:20260318T205251Z
UID:10003144-1808510400-1808514000@www.standrews.net
SUMMARY:AA Meeting (Conference Room)
DESCRIPTION:
URL:https://www.standrews.net/event/aa-meeting-conference-room-173/
END:VEVENT
BEGIN:VEVENT
DTSTART;TZID=America/New_York:20270424T151500
DTEND;TZID=America/New_York:20270424T174500
DTSTAMP:20260420T102752
CREATED:20250731T194754Z
LAST-MODIFIED:20260318T205251Z
UID:10003145-1808579700-1808588700@www.standrews.net
SUMMARY:FACETS Hot Meals (Kitchen)
DESCRIPTION:
URL:https://www.standrews.net/event/facets-hot-meals-kitchen-80/
END:VEVENT
BEGIN:VEVENT
DTSTART;TZID=America/New_York:20270424T180000
DTEND;TZID=America/New_York:20270424T190000
DTSTAMP:20260420T102752
CREATED:20250731T194754Z
LAST-MODIFIED:20260318T205252Z
UID:10003146-1808589600-1808593200@www.standrews.net
SUMMARY:Holy Eucharist: Rite II (Chapel)
DESCRIPTION:
URL:https://www.standrews.net/event/holy-eucharist-rite-ii-chapel-252/
END:VEVENT
END:VCALENDAR