BEGIN:VCALENDAR
VERSION:2.0
PRODID:-//St. Andrew&#039;s Episcopal Church - ECPv6.15.20//NONSGML v1.0//EN
CALSCALE:GREGORIAN
METHOD:PUBLISH
X-ORIGINAL-URL:https://www.standrews.net
X-WR-CALDESC:Events for St. Andrew&#039;s Episcopal Church
REFRESH-INTERVAL;VALUE=DURATION:PT1H
X-Robots-Tag:noindex
X-PUBLISHED-TTL:PT1H
BEGIN:VTIMEZONE
TZID:America/New_York
BEGIN:DAYLIGHT
TZOFFSETFROM:-0500
TZOFFSETTO:-0400
TZNAME:EDT
DTSTART:20260308T070000
END:DAYLIGHT
BEGIN:STANDARD
TZOFFSETFROM:-0400
TZOFFSETTO:-0500
TZNAME:EST
DTSTART:20261101T060000
END:STANDARD
BEGIN:DAYLIGHT
TZOFFSETFROM:-0500
TZOFFSETTO:-0400
TZNAME:EDT
DTSTART:20270314T070000
END:DAYLIGHT
BEGIN:STANDARD
TZOFFSETFROM:-0400
TZOFFSETTO:-0500
TZNAME:EST
DTSTART:20271107T060000
END:STANDARD
BEGIN:DAYLIGHT
TZOFFSETFROM:-0500
TZOFFSETTO:-0400
TZNAME:EDT
DTSTART:20280312T070000
END:DAYLIGHT
BEGIN:STANDARD
TZOFFSETFROM:-0400
TZOFFSETTO:-0500
TZNAME:EST
DTSTART:20281105T060000
END:STANDARD
END:VTIMEZONE
BEGIN:VEVENT
DTSTART;TZID=America/New_York:20270502T080000
DTEND;TZID=America/New_York:20270502T090000
DTSTAMP:20260420T120254
CREATED:20250731T194755Z
LAST-MODIFIED:20260318T205252Z
UID:10003155-1809244800-1809248400@www.standrews.net
SUMMARY:Holy Eucharist: Rite I (Nave)
DESCRIPTION:
URL:https://www.standrews.net/event/holy-eucharist-rite-i-nave-83/
END:VEVENT
BEGIN:VEVENT
DTSTART;TZID=America/New_York:20270502T100000
DTEND;TZID=America/New_York:20270502T111500
DTSTAMP:20260420T120254
CREATED:20250731T194756Z
LAST-MODIFIED:20260318T205252Z
UID:10003156-1809252000-1809256500@www.standrews.net
SUMMARY:Holy Eucharist: Rite II (Nave)
DESCRIPTION:
URL:https://www.standrews.net/event/holy-eucharist-rite-ii-nave-179/
END:VEVENT
BEGIN:VEVENT
DTSTART;TZID=America/New_York:20270504T190000
DTEND;TZID=America/New_York:20270504T203000
DTSTAMP:20260420T120254
CREATED:20250731T194756Z
LAST-MODIFIED:20260318T205252Z
UID:10003157-1809457200-1809462600@www.standrews.net
SUMMARY:AA Meeting (MPR)
DESCRIPTION:
URL:https://www.standrews.net/event/aa-meeting-mpr-175/
END:VEVENT
BEGIN:VEVENT
DTSTART;TZID=America/New_York:20270505T093000
DTEND;TZID=America/New_York:20270505T101000
DTSTAMP:20260420T120254
CREATED:20250731T194756Z
LAST-MODIFIED:20260318T205252Z
UID:10003158-1809509400-1809511800@www.standrews.net
SUMMARY:Holy Eucharist: Rite II (Chapel)
DESCRIPTION:
URL:https://www.standrews.net/event/holy-eucharist-rite-ii-chapel-254/
END:VEVENT
BEGIN:VEVENT
DTSTART;TZID=America/New_York:20270505T130000
DTEND;TZID=America/New_York:20270505T140000
DTSTAMP:20260420T120254
CREATED:20260107T193813Z
LAST-MODIFIED:20260318T205252Z
UID:10003908-1809522000-1809525600@www.standrews.net
SUMMARY:Staff Meeting (Conference Room)
DESCRIPTION:St. A’s Zoom: https://us02web.zoom.us/j/89396581796?pwd=Aia20FVRBdgeR1iGTzzu9Dagnfi8S9.1 \nWill’s Zoom: https://us06web.zoom.us/j/83455041284?pwd=Svr2vBbBiDaaxR8B5uGBT3bPScIKZa.1
URL:https://www.standrews.net/event/staff-meeting-conference-room-102/
END:VEVENT
BEGIN:VEVENT
DTSTART;TZID=America/New_York:20270507T130000
DTEND;TZID=America/New_York:20270507T140000
DTSTAMP:20260420T120254
CREATED:20250731T194756Z
LAST-MODIFIED:20260318T205253Z
UID:10003159-1809694800-1809698400@www.standrews.net
SUMMARY:Peace Islamic Center (Parish Hall)
DESCRIPTION:
URL:https://www.standrews.net/event/peace-islamic-center-parish-hall-176/
END:VEVENT
BEGIN:VEVENT
DTSTART;TZID=America/New_York:20270507T200000
DTEND;TZID=America/New_York:20270507T210000
DTSTAMP:20260420T120254
CREATED:20250731T194756Z
LAST-MODIFIED:20260318T205253Z
UID:10003160-1809720000-1809723600@www.standrews.net
SUMMARY:AA Meeting (Conference Room)
DESCRIPTION:
URL:https://www.standrews.net/event/aa-meeting-conference-room-175/
END:VEVENT
BEGIN:VEVENT
DTSTART;TZID=America/New_York:20270508T180000
DTEND;TZID=America/New_York:20270508T190000
DTSTAMP:20260420T120254
CREATED:20250731T194757Z
LAST-MODIFIED:20260318T205253Z
UID:10003161-1809799200-1809802800@www.standrews.net
SUMMARY:Holy Eucharist: Rite II (Chapel)
DESCRIPTION:
URL:https://www.standrews.net/event/holy-eucharist-rite-ii-chapel-255/
END:VEVENT
END:VCALENDAR