BEGIN:VCALENDAR
VERSION:2.0
PRODID:-//St. Andrew&#039;s Episcopal Church - ECPv6.15.20//NONSGML v1.0//EN
CALSCALE:GREGORIAN
METHOD:PUBLISH
X-WR-CALNAME:St. Andrew&#039;s Episcopal Church
X-ORIGINAL-URL:https://www.standrews.net
X-WR-CALDESC:Events for St. Andrew&#039;s Episcopal Church
REFRESH-INTERVAL;VALUE=DURATION:PT1H
X-Robots-Tag:noindex
X-PUBLISHED-TTL:PT1H
BEGIN:VTIMEZONE
TZID:America/New_York
BEGIN:DAYLIGHT
TZOFFSETFROM:-0500
TZOFFSETTO:-0400
TZNAME:EDT
DTSTART:20260308T070000
END:DAYLIGHT
BEGIN:STANDARD
TZOFFSETFROM:-0400
TZOFFSETTO:-0500
TZNAME:EST
DTSTART:20261101T060000
END:STANDARD
BEGIN:DAYLIGHT
TZOFFSETFROM:-0500
TZOFFSETTO:-0400
TZNAME:EDT
DTSTART:20270314T070000
END:DAYLIGHT
BEGIN:STANDARD
TZOFFSETFROM:-0400
TZOFFSETTO:-0500
TZNAME:EST
DTSTART:20271107T060000
END:STANDARD
BEGIN:DAYLIGHT
TZOFFSETFROM:-0500
TZOFFSETTO:-0400
TZNAME:EDT
DTSTART:20280312T070000
END:DAYLIGHT
BEGIN:STANDARD
TZOFFSETFROM:-0400
TZOFFSETTO:-0500
TZNAME:EST
DTSTART:20281105T060000
END:STANDARD
END:VTIMEZONE
BEGIN:VEVENT
DTSTART;TZID=America/New_York:20270516T080000
DTEND;TZID=America/New_York:20270516T090000
DTSTAMP:20260420T133906
CREATED:20250731T194800Z
LAST-MODIFIED:20260318T205253Z
UID:10003171-1810454400-1810458000@www.standrews.net
SUMMARY:Holy Eucharist: Rite I (Nave)
DESCRIPTION:
URL:https://www.standrews.net/event/holy-eucharist-rite-i-nave-85/
END:VEVENT
BEGIN:VEVENT
DTSTART;TZID=America/New_York:20270516T100000
DTEND;TZID=America/New_York:20270516T111500
DTSTAMP:20260420T133906
CREATED:20250731T194801Z
LAST-MODIFIED:20260318T205253Z
UID:10003172-1810461600-1810466100@www.standrews.net
SUMMARY:Holy Eucharist: Rite II (Nave)
DESCRIPTION:
URL:https://www.standrews.net/event/holy-eucharist-rite-ii-nave-181/
END:VEVENT
BEGIN:VEVENT
DTSTART;TZID=America/New_York:20270518T190000
DTEND;TZID=America/New_York:20270518T203000
DTSTAMP:20260420T133906
CREATED:20250731T194801Z
LAST-MODIFIED:20260318T205253Z
UID:10003173-1810666800-1810672200@www.standrews.net
SUMMARY:AA Meeting (MPR)
DESCRIPTION:
URL:https://www.standrews.net/event/aa-meeting-mpr-177/
END:VEVENT
BEGIN:VEVENT
DTSTART;TZID=America/New_York:20270519T093000
DTEND;TZID=America/New_York:20270519T101000
DTSTAMP:20260420T133906
CREATED:20250731T194801Z
LAST-MODIFIED:20260318T205253Z
UID:10003174-1810719000-1810721400@www.standrews.net
SUMMARY:Holy Eucharist: Rite II (Chapel)
DESCRIPTION:
URL:https://www.standrews.net/event/holy-eucharist-rite-ii-chapel-257/
END:VEVENT
BEGIN:VEVENT
DTSTART;TZID=America/New_York:20270519T130000
DTEND;TZID=America/New_York:20270519T140000
DTSTAMP:20260420T133906
CREATED:20260107T193815Z
LAST-MODIFIED:20260318T205254Z
UID:10003910-1810731600-1810735200@www.standrews.net
SUMMARY:Staff Meeting (Conference Room)
DESCRIPTION:St. A’s Zoom: https://us02web.zoom.us/j/89396581796?pwd=Aia20FVRBdgeR1iGTzzu9Dagnfi8S9.1 \nWill’s Zoom: https://us06web.zoom.us/j/83455041284?pwd=Svr2vBbBiDaaxR8B5uGBT3bPScIKZa.1
URL:https://www.standrews.net/event/staff-meeting-conference-room-104/
END:VEVENT
BEGIN:VEVENT
DTSTART;TZID=America/New_York:20270521T130000
DTEND;TZID=America/New_York:20270521T140000
DTSTAMP:20260420T133906
CREATED:20250731T194801Z
LAST-MODIFIED:20260318T205254Z
UID:10003175-1810904400-1810908000@www.standrews.net
SUMMARY:Peace Islamic Center (Parish Hall)
DESCRIPTION:
URL:https://www.standrews.net/event/peace-islamic-center-parish-hall-178/
END:VEVENT
BEGIN:VEVENT
DTSTART;TZID=America/New_York:20270521T200000
DTEND;TZID=America/New_York:20270521T210000
DTSTAMP:20260420T133906
CREATED:20250731T194801Z
LAST-MODIFIED:20260318T205254Z
UID:10003176-1810929600-1810933200@www.standrews.net
SUMMARY:AA Meeting (Conference Room)
DESCRIPTION:
URL:https://www.standrews.net/event/aa-meeting-conference-room-177/
END:VEVENT
BEGIN:VEVENT
DTSTART;TZID=America/New_York:20270522T151500
DTEND;TZID=America/New_York:20270522T174500
DTSTAMP:20260420T133906
CREATED:20250731T194802Z
LAST-MODIFIED:20260318T205254Z
UID:10003177-1810998900-1811007900@www.standrews.net
SUMMARY:FACETS Hot Meals (Kitchen)
DESCRIPTION:
URL:https://www.standrews.net/event/facets-hot-meals-kitchen-82/
END:VEVENT
BEGIN:VEVENT
DTSTART;TZID=America/New_York:20270522T180000
DTEND;TZID=America/New_York:20270522T190000
DTSTAMP:20260420T133906
CREATED:20250731T194802Z
LAST-MODIFIED:20260318T205254Z
UID:10003178-1811008800-1811012400@www.standrews.net
SUMMARY:Holy Eucharist: Rite II (Chapel)
DESCRIPTION:
URL:https://www.standrews.net/event/holy-eucharist-rite-ii-chapel-258/
END:VEVENT
END:VCALENDAR