BEGIN:VCALENDAR
VERSION:2.0
PRODID:-//St. Andrew&#039;s Episcopal Church - ECPv6.15.20//NONSGML v1.0//EN
CALSCALE:GREGORIAN
METHOD:PUBLISH
X-ORIGINAL-URL:https://www.standrews.net
X-WR-CALDESC:Events for St. Andrew&#039;s Episcopal Church
REFRESH-INTERVAL;VALUE=DURATION:PT1H
X-Robots-Tag:noindex
X-PUBLISHED-TTL:PT1H
BEGIN:VTIMEZONE
TZID:America/New_York
BEGIN:DAYLIGHT
TZOFFSETFROM:-0500
TZOFFSETTO:-0400
TZNAME:EDT
DTSTART:20260308T070000
END:DAYLIGHT
BEGIN:STANDARD
TZOFFSETFROM:-0400
TZOFFSETTO:-0500
TZNAME:EST
DTSTART:20261101T060000
END:STANDARD
BEGIN:DAYLIGHT
TZOFFSETFROM:-0500
TZOFFSETTO:-0400
TZNAME:EDT
DTSTART:20270314T070000
END:DAYLIGHT
BEGIN:STANDARD
TZOFFSETFROM:-0400
TZOFFSETTO:-0500
TZNAME:EST
DTSTART:20271107T060000
END:STANDARD
BEGIN:DAYLIGHT
TZOFFSETFROM:-0500
TZOFFSETTO:-0400
TZNAME:EDT
DTSTART:20280312T070000
END:DAYLIGHT
BEGIN:STANDARD
TZOFFSETFROM:-0400
TZOFFSETTO:-0500
TZNAME:EST
DTSTART:20281105T060000
END:STANDARD
END:VTIMEZONE
BEGIN:VEVENT
DTSTART;TZID=America/New_York:20270627T080000
DTEND;TZID=America/New_York:20270627T090000
DTSTAMP:20260420T133948
CREATED:20250731T194811Z
LAST-MODIFIED:20260318T205257Z
UID:10003217-1814083200-1814086800@www.standrews.net
SUMMARY:Holy Eucharist: Rite I (Nave)
DESCRIPTION:
URL:https://www.standrews.net/event/holy-eucharist-rite-i-nave-91/
END:VEVENT
BEGIN:VEVENT
DTSTART;TZID=America/New_York:20270627T100000
DTEND;TZID=America/New_York:20270627T111500
DTSTAMP:20260420T133948
CREATED:20250731T194812Z
LAST-MODIFIED:20260318T205257Z
UID:10003218-1814090400-1814094900@www.standrews.net
SUMMARY:Holy Eucharist: Rite II (Nave)
DESCRIPTION:
URL:https://www.standrews.net/event/holy-eucharist-rite-ii-nave-187/
END:VEVENT
BEGIN:VEVENT
DTSTART;TZID=America/New_York:20270629T190000
DTEND;TZID=America/New_York:20270629T203000
DTSTAMP:20260420T133948
CREATED:20250731T194812Z
LAST-MODIFIED:20260318T205257Z
UID:10003219-1814295600-1814301000@www.standrews.net
SUMMARY:AA Meeting (MPR)
DESCRIPTION:
URL:https://www.standrews.net/event/aa-meeting-mpr-183/
END:VEVENT
BEGIN:VEVENT
DTSTART;TZID=America/New_York:20270630T093000
DTEND;TZID=America/New_York:20270630T101000
DTSTAMP:20260420T133948
CREATED:20250731T194812Z
LAST-MODIFIED:20260318T205257Z
UID:10003220-1814347800-1814350200@www.standrews.net
SUMMARY:Holy Eucharist: Rite II (Chapel)
DESCRIPTION:
URL:https://www.standrews.net/event/holy-eucharist-rite-ii-chapel-266/
END:VEVENT
BEGIN:VEVENT
DTSTART;TZID=America/New_York:20270630T130000
DTEND;TZID=America/New_York:20270630T140000
DTSTAMP:20260420T133948
CREATED:20260107T193819Z
LAST-MODIFIED:20260318T205257Z
UID:10003916-1814360400-1814364000@www.standrews.net
SUMMARY:Staff Meeting (Conference Room)
DESCRIPTION:St. A’s Zoom: https://us02web.zoom.us/j/89396581796?pwd=Aia20FVRBdgeR1iGTzzu9Dagnfi8S9.1 \nWill’s Zoom: https://us06web.zoom.us/j/83455041284?pwd=Svr2vBbBiDaaxR8B5uGBT3bPScIKZa.1
URL:https://www.standrews.net/event/staff-meeting-conference-room-110/
END:VEVENT
BEGIN:VEVENT
DTSTART;TZID=America/New_York:20270702T130000
DTEND;TZID=America/New_York:20270702T140000
DTSTAMP:20260420T133948
CREATED:20250731T194812Z
LAST-MODIFIED:20260318T205257Z
UID:10003221-1814533200-1814536800@www.standrews.net
SUMMARY:Peace Islamic Center (Parish Hall)
DESCRIPTION:
URL:https://www.standrews.net/event/peace-islamic-center-parish-hall-184/
END:VEVENT
BEGIN:VEVENT
DTSTART;TZID=America/New_York:20270702T200000
DTEND;TZID=America/New_York:20270702T210000
DTSTAMP:20260420T133948
CREATED:20250731T194812Z
LAST-MODIFIED:20260318T205257Z
UID:10003222-1814558400-1814562000@www.standrews.net
SUMMARY:AA Meeting (Conference Room)
DESCRIPTION:
URL:https://www.standrews.net/event/aa-meeting-conference-room-183/
END:VEVENT
BEGIN:VEVENT
DTSTART;TZID=America/New_York:20270703T151500
DTEND;TZID=America/New_York:20270703T173000
DTSTAMP:20260420T133949
CREATED:20250731T194813Z
LAST-MODIFIED:20260318T205257Z
UID:10003223-1814627700-1814635800@www.standrews.net
SUMMARY:FACETS Hot Meals (Kitchen)
DESCRIPTION:
URL:https://www.standrews.net/event/facets-hot-meals-kitchen-85/
END:VEVENT
BEGIN:VEVENT
DTSTART;TZID=America/New_York:20270703T180000
DTEND;TZID=America/New_York:20270703T190000
DTSTAMP:20260420T133949
CREATED:20250731T194813Z
LAST-MODIFIED:20260318T205257Z
UID:10003224-1814637600-1814641200@www.standrews.net
SUMMARY:Evening Prayer (Chapel)
DESCRIPTION:
URL:https://www.standrews.net/event/evening-prayer-chapel-49/
END:VEVENT
END:VCALENDAR