BEGIN:VCALENDAR
VERSION:2.0
PRODID:-//St. Andrew&#039;s Episcopal Church - ECPv6.15.20//NONSGML v1.0//EN
CALSCALE:GREGORIAN
METHOD:PUBLISH
X-ORIGINAL-URL:https://www.standrews.net
X-WR-CALDESC:Events for St. Andrew&#039;s Episcopal Church
REFRESH-INTERVAL;VALUE=DURATION:PT1H
X-Robots-Tag:noindex
X-PUBLISHED-TTL:PT1H
BEGIN:VTIMEZONE
TZID:America/New_York
BEGIN:DAYLIGHT
TZOFFSETFROM:-0500
TZOFFSETTO:-0400
TZNAME:EDT
DTSTART:20260308T070000
END:DAYLIGHT
BEGIN:STANDARD
TZOFFSETFROM:-0400
TZOFFSETTO:-0500
TZNAME:EST
DTSTART:20261101T060000
END:STANDARD
BEGIN:DAYLIGHT
TZOFFSETFROM:-0500
TZOFFSETTO:-0400
TZNAME:EDT
DTSTART:20270314T070000
END:DAYLIGHT
BEGIN:STANDARD
TZOFFSETFROM:-0400
TZOFFSETTO:-0500
TZNAME:EST
DTSTART:20271107T060000
END:STANDARD
BEGIN:DAYLIGHT
TZOFFSETFROM:-0500
TZOFFSETTO:-0400
TZNAME:EDT
DTSTART:20280312T070000
END:DAYLIGHT
BEGIN:STANDARD
TZOFFSETFROM:-0400
TZOFFSETTO:-0500
TZNAME:EST
DTSTART:20281105T060000
END:STANDARD
END:VTIMEZONE
BEGIN:VEVENT
DTSTART;TZID=America/New_York:20271010T080000
DTEND;TZID=America/New_York:20271010T090000
DTSTAMP:20260420T195452
CREATED:20251115T233812Z
LAST-MODIFIED:20260318T205309Z
UID:10003704-1823155200-1823158800@www.standrews.net
SUMMARY:Holy Eucharist: Rite I (Nave)
DESCRIPTION:
URL:https://www.standrews.net/event/holy-eucharist-rite-i-nave-102/
END:VEVENT
BEGIN:VEVENT
DTSTART;TZID=America/New_York:20271010T100000
DTEND;TZID=America/New_York:20271010T111500
DTSTAMP:20260420T195452
CREATED:20251116T235309Z
LAST-MODIFIED:20260318T205309Z
UID:10003705-1823162400-1823166900@www.standrews.net
SUMMARY:Holy Eucharist: Rite II (Nave)
DESCRIPTION:
URL:https://www.standrews.net/event/holy-eucharist-rite-ii-nave-10/
END:VEVENT
BEGIN:VEVENT
DTSTART;TZID=America/New_York:20271011T190000
DTEND;TZID=America/New_York:20271011T210000
DTSTAMP:20260420T195452
CREATED:20251116T235309Z
LAST-MODIFIED:20260318T205309Z
UID:10003706-1823281200-1823288400@www.standrews.net
SUMMARY:Vestry Meeting (Conference Room)
DESCRIPTION:
URL:https://www.standrews.net/event/vestry-meeting-conference-room-2/
END:VEVENT
BEGIN:VEVENT
DTSTART;TZID=America/New_York:20271012T190000
DTEND;TZID=America/New_York:20271012T203000
DTSTAMP:20260420T195452
CREATED:20251116T235309Z
LAST-MODIFIED:20260318T205309Z
UID:10003707-1823367600-1823373000@www.standrews.net
SUMMARY:AA Meeting (MPR)
DESCRIPTION:
URL:https://www.standrews.net/event/aa-meeting-mpr-10/
END:VEVENT
BEGIN:VEVENT
DTSTART;TZID=America/New_York:20271013T093000
DTEND;TZID=America/New_York:20271013T101000
DTSTAMP:20260420T195452
CREATED:20251116T235310Z
LAST-MODIFIED:20260318T205309Z
UID:10003708-1823419800-1823422200@www.standrews.net
SUMMARY:Holy Eucharist: Rite II (Chapel)
DESCRIPTION:
URL:https://www.standrews.net/event/holy-eucharist-rite-ii-chapel-15/
END:VEVENT
BEGIN:VEVENT
DTSTART;TZID=America/New_York:20271013T130000
DTEND;TZID=America/New_York:20271013T140000
DTSTAMP:20260420T195452
CREATED:20260107T193829Z
LAST-MODIFIED:20260318T205309Z
UID:10003931-1823432400-1823436000@www.standrews.net
SUMMARY:Staff Meeting (Conference Room)
DESCRIPTION:St. A’s Zoom: https://us02web.zoom.us/j/89396581796?pwd=Aia20FVRBdgeR1iGTzzu9Dagnfi8S9.1 \nWill’s Zoom: https://us06web.zoom.us/j/83455041284?pwd=Svr2vBbBiDaaxR8B5uGBT3bPScIKZa.1
URL:https://www.standrews.net/event/staff-meeting-conference-room-125/
END:VEVENT
BEGIN:VEVENT
DTSTART;TZID=America/New_York:20271013T190000
DTEND;TZID=America/New_York:20271013T210000
DTSTAMP:20260420T195452
CREATED:20260218T170858Z
LAST-MODIFIED:20260318T205309Z
UID:10004089-1823454000-1823461200@www.standrews.net
SUMMARY:Property Resource Committee Meeting (Conference Room)
DESCRIPTION:
URL:https://www.standrews.net/event/property-resource-committee-meeting-conference-room-49/
END:VEVENT
BEGIN:VEVENT
DTSTART;TZID=America/New_York:20271014T190000
DTEND;TZID=America/New_York:20271014T210000
DTSTAMP:20260420T195452
CREATED:20251116T235310Z
LAST-MODIFIED:20260217T170654Z
UID:10003709-1823540400-1823547600@www.standrews.net
SUMMARY:Property Resource Committee Meeting (Conference Room)
DESCRIPTION:
URL:https://www.standrews.net/event/property-resource-committee-meeting-conference-room-3/
END:VEVENT
BEGIN:VEVENT
DTSTART;TZID=America/New_York:20271015T130000
DTEND;TZID=America/New_York:20271015T140000
DTSTAMP:20260420T195452
CREATED:20251118T235311Z
LAST-MODIFIED:20260318T205310Z
UID:10003711-1823605200-1823608800@www.standrews.net
SUMMARY:Peace Islamic Center (Parish Hall)
DESCRIPTION:
URL:https://www.standrews.net/event/peace-islamic-center-parish-hall-10/
END:VEVENT
BEGIN:VEVENT
DTSTART;TZID=America/New_York:20271015T200000
DTEND;TZID=America/New_York:20271015T210000
DTSTAMP:20260420T195452
CREATED:20251119T235306Z
LAST-MODIFIED:20260318T205310Z
UID:10003716-1823630400-1823634000@www.standrews.net
SUMMARY:AA Meeting (Conference Room)
DESCRIPTION:
URL:https://www.standrews.net/event/aa-meeting-conference-room-11/
END:VEVENT
BEGIN:VEVENT
DTSTART;TZID=America/New_York:20271016T180000
DTEND;TZID=America/New_York:20271016T190000
DTSTAMP:20260420T195452
CREATED:20251119T235306Z
LAST-MODIFIED:20260318T205310Z
UID:10003717-1823709600-1823713200@www.standrews.net
SUMMARY:Taizé (Nave)
DESCRIPTION:
URL:https://www.standrews.net/event/taize-nave-3/
END:VEVENT
END:VCALENDAR