BEGIN:VCALENDAR
VERSION:2.0
PRODID:-//St. Andrew&#039;s Episcopal Church - ECPv6.15.20//NONSGML v1.0//EN
CALSCALE:GREGORIAN
METHOD:PUBLISH
X-WR-CALNAME:St. Andrew&#039;s Episcopal Church
X-ORIGINAL-URL:https://www.standrews.net
X-WR-CALDESC:Events for St. Andrew&#039;s Episcopal Church
REFRESH-INTERVAL;VALUE=DURATION:PT1H
X-Robots-Tag:noindex
X-PUBLISHED-TTL:PT1H
BEGIN:VTIMEZONE
TZID:America/New_York
BEGIN:DAYLIGHT
TZOFFSETFROM:-0500
TZOFFSETTO:-0400
TZNAME:EDT
DTSTART:20260308T070000
END:DAYLIGHT
BEGIN:STANDARD
TZOFFSETFROM:-0400
TZOFFSETTO:-0500
TZNAME:EST
DTSTART:20261101T060000
END:STANDARD
BEGIN:DAYLIGHT
TZOFFSETFROM:-0500
TZOFFSETTO:-0400
TZNAME:EDT
DTSTART:20270314T070000
END:DAYLIGHT
BEGIN:STANDARD
TZOFFSETFROM:-0400
TZOFFSETTO:-0500
TZNAME:EST
DTSTART:20271107T060000
END:STANDARD
BEGIN:DAYLIGHT
TZOFFSETFROM:-0500
TZOFFSETTO:-0400
TZNAME:EDT
DTSTART:20280312T070000
END:DAYLIGHT
BEGIN:STANDARD
TZOFFSETFROM:-0400
TZOFFSETTO:-0500
TZNAME:EST
DTSTART:20281105T060000
END:STANDARD
END:VTIMEZONE
BEGIN:VEVENT
DTSTART;TZID=America/New_York:20271017T080000
DTEND;TZID=America/New_York:20271017T090000
DTSTAMP:20260420T195302
CREATED:20251119T235306Z
LAST-MODIFIED:20260318T205310Z
UID:10003718-1823760000-1823763600@www.standrews.net
SUMMARY:Holy Eucharist: Rite I (Nave)
DESCRIPTION:
URL:https://www.standrews.net/event/holy-eucharist-rite-i-nave-103/
END:VEVENT
BEGIN:VEVENT
DTSTART;TZID=America/New_York:20271017T100000
DTEND;TZID=America/New_York:20271017T111500
DTSTAMP:20260420T195302
CREATED:20251120T235321Z
LAST-MODIFIED:20260318T205310Z
UID:10003719-1823767200-1823771700@www.standrews.net
SUMMARY:Holy Eucharist: Rite II (Nave)
DESCRIPTION:
URL:https://www.standrews.net/event/holy-eucharist-rite-ii-nave-11/
END:VEVENT
BEGIN:VEVENT
DTSTART;TZID=America/New_York:20271019T190000
DTEND;TZID=America/New_York:20271019T203000
DTSTAMP:20260420T195302
CREATED:20251120T235321Z
LAST-MODIFIED:20260318T205310Z
UID:10003720-1823972400-1823977800@www.standrews.net
SUMMARY:AA Meeting (MPR)
DESCRIPTION:
URL:https://www.standrews.net/event/aa-meeting-mpr-11/
END:VEVENT
BEGIN:VEVENT
DTSTART;TZID=America/New_York:20271020T093000
DTEND;TZID=America/New_York:20271020T101000
DTSTAMP:20260420T195302
CREATED:20251120T235321Z
LAST-MODIFIED:20260318T205310Z
UID:10003721-1824024600-1824027000@www.standrews.net
SUMMARY:Holy Eucharist: Rite II (Chapel)
DESCRIPTION:
URL:https://www.standrews.net/event/holy-eucharist-rite-ii-chapel-16/
END:VEVENT
BEGIN:VEVENT
DTSTART;TZID=America/New_York:20271020T130000
DTEND;TZID=America/New_York:20271020T140000
DTSTAMP:20260420T195302
CREATED:20260107T193830Z
LAST-MODIFIED:20260318T205310Z
UID:10003932-1824037200-1824040800@www.standrews.net
SUMMARY:Staff Meeting (Conference Room)
DESCRIPTION:St. A’s Zoom: https://us02web.zoom.us/j/89396581796?pwd=Aia20FVRBdgeR1iGTzzu9Dagnfi8S9.1 \nWill’s Zoom: https://us06web.zoom.us/j/83455041284?pwd=Svr2vBbBiDaaxR8B5uGBT3bPScIKZa.1
URL:https://www.standrews.net/event/staff-meeting-conference-room-126/
END:VEVENT
BEGIN:VEVENT
DTSTART;TZID=America/New_York:20271022T130000
DTEND;TZID=America/New_York:20271022T140000
DTSTAMP:20260420T195302
CREATED:20251120T235322Z
LAST-MODIFIED:20260318T205311Z
UID:10003722-1824210000-1824213600@www.standrews.net
SUMMARY:Peace Islamic Center (Parish Hall)
DESCRIPTION:
URL:https://www.standrews.net/event/peace-islamic-center-parish-hall-11/
END:VEVENT
BEGIN:VEVENT
DTSTART;TZID=America/New_York:20271022T200000
DTEND;TZID=America/New_York:20271022T210000
DTSTAMP:20260420T195302
CREATED:20251122T100820Z
LAST-MODIFIED:20260318T205311Z
UID:10003723-1824235200-1824238800@www.standrews.net
SUMMARY:AA Meeting (Conference Room)
DESCRIPTION:
URL:https://www.standrews.net/event/aa-meeting-conference-room-12/
END:VEVENT
BEGIN:VEVENT
DTSTART;TZID=America/New_York:20271023T151500
DTEND;TZID=America/New_York:20271023T174500
DTSTAMP:20260420T195302
CREATED:20251122T100820Z
LAST-MODIFIED:20260318T205311Z
UID:10003724-1824304500-1824313500@www.standrews.net
SUMMARY:FACETS Hot Meals (Kitchen)
DESCRIPTION:
URL:https://www.standrews.net/event/facets-hot-meals-kitchen-5/
END:VEVENT
BEGIN:VEVENT
DTSTART;TZID=America/New_York:20271023T180000
DTEND;TZID=America/New_York:20271023T190000
DTSTAMP:20260420T195302
CREATED:20251122T100820Z
LAST-MODIFIED:20260318T205311Z
UID:10003725-1824314400-1824318000@www.standrews.net
SUMMARY:Holy Eucharist: Rite II (Chapel)
DESCRIPTION:
URL:https://www.standrews.net/event/holy-eucharist-rite-ii-chapel-17/
END:VEVENT
END:VCALENDAR