BEGIN:VCALENDAR
VERSION:2.0
PRODID:-//St. Andrew&#039;s Episcopal Church - ECPv6.15.20//NONSGML v1.0//EN
CALSCALE:GREGORIAN
METHOD:PUBLISH
X-WR-CALNAME:St. Andrew&#039;s Episcopal Church
X-ORIGINAL-URL:https://www.standrews.net
X-WR-CALDESC:Events for St. Andrew&#039;s Episcopal Church
REFRESH-INTERVAL;VALUE=DURATION:PT1H
X-Robots-Tag:noindex
X-PUBLISHED-TTL:PT1H
BEGIN:VTIMEZONE
TZID:America/New_York
BEGIN:DAYLIGHT
TZOFFSETFROM:-0500
TZOFFSETTO:-0400
TZNAME:EDT
DTSTART:20260308T070000
END:DAYLIGHT
BEGIN:STANDARD
TZOFFSETFROM:-0400
TZOFFSETTO:-0500
TZNAME:EST
DTSTART:20261101T060000
END:STANDARD
BEGIN:DAYLIGHT
TZOFFSETFROM:-0500
TZOFFSETTO:-0400
TZNAME:EDT
DTSTART:20270314T070000
END:DAYLIGHT
BEGIN:STANDARD
TZOFFSETFROM:-0400
TZOFFSETTO:-0500
TZNAME:EST
DTSTART:20271107T060000
END:STANDARD
BEGIN:DAYLIGHT
TZOFFSETFROM:-0500
TZOFFSETTO:-0400
TZNAME:EDT
DTSTART:20280312T070000
END:DAYLIGHT
BEGIN:STANDARD
TZOFFSETFROM:-0400
TZOFFSETTO:-0500
TZNAME:EST
DTSTART:20281105T060000
END:STANDARD
END:VTIMEZONE
BEGIN:VEVENT
DTSTART;TZID=America/New_York:20271107T080000
DTEND;TZID=America/New_York:20271107T090000
DTSTAMP:20260420T213835
CREATED:20251126T203817Z
LAST-MODIFIED:20260318T205312Z
UID:10003741-1825574400-1825578000@www.standrews.net
SUMMARY:Holy Eucharist: Rite I (Nave)
DESCRIPTION:
URL:https://www.standrews.net/event/holy-eucharist-rite-i-nave-106/
END:VEVENT
BEGIN:VEVENT
DTSTART;TZID=America/New_York:20271107T100000
DTEND;TZID=America/New_York:20271107T111500
DTSTAMP:20260420T213835
CREATED:20251126T203817Z
LAST-MODIFIED:20260318T205312Z
UID:10003742-1825581600-1825586100@www.standrews.net
SUMMARY:Holy Eucharist: Rite II (Nave)
DESCRIPTION:
URL:https://www.standrews.net/event/holy-eucharist-rite-ii-nave-14/
END:VEVENT
BEGIN:VEVENT
DTSTART;TZID=America/New_York:20271108T190000
DTEND;TZID=America/New_York:20271108T210000
DTSTAMP:20260420T213835
CREATED:20251126T203817Z
LAST-MODIFIED:20260318T205312Z
UID:10003743-1825700400-1825707600@www.standrews.net
SUMMARY:Vestry Meeting (Conference Room)
DESCRIPTION:
URL:https://www.standrews.net/event/vestry-meeting-conference-room-3/
END:VEVENT
BEGIN:VEVENT
DTSTART;TZID=America/New_York:20271109T190000
DTEND;TZID=America/New_York:20271109T203000
DTSTAMP:20260420T213835
CREATED:20251128T203816Z
LAST-MODIFIED:20260318T205312Z
UID:10003744-1825786800-1825792200@www.standrews.net
SUMMARY:AA Meeting (MPR)
DESCRIPTION:
URL:https://www.standrews.net/event/aa-meeting-mpr-14/
END:VEVENT
BEGIN:VEVENT
DTSTART;TZID=America/New_York:20271110T093000
DTEND;TZID=America/New_York:20271110T101000
DTSTAMP:20260420T213835
CREATED:20251128T203816Z
LAST-MODIFIED:20260318T205312Z
UID:10003745-1825839000-1825841400@www.standrews.net
SUMMARY:Holy Eucharist: Rite II (Chapel)
DESCRIPTION:
URL:https://www.standrews.net/event/holy-eucharist-rite-ii-chapel-20/
END:VEVENT
BEGIN:VEVENT
DTSTART;TZID=America/New_York:20271110T130000
DTEND;TZID=America/New_York:20271110T140000
DTSTAMP:20260420T213835
CREATED:20260208T180812Z
LAST-MODIFIED:20260318T205312Z
UID:10004053-1825851600-1825855200@www.standrews.net
SUMMARY:Staff Meeting (Conference Room)
DESCRIPTION:St. A’s Zoom: https://us02web.zoom.us/j/89396581796?pwd=Aia20FVRBdgeR1iGTzzu9Dagnfi8S9.1 \nWill’s Zoom: https://us06web.zoom.us/j/83455041284?pwd=Svr2vBbBiDaaxR8B5uGBT3bPScIKZa.1
URL:https://www.standrews.net/event/staff-meeting-conference-room-7/
END:VEVENT
BEGIN:VEVENT
DTSTART;TZID=America/New_York:20271110T190000
DTEND;TZID=America/New_York:20271110T210000
DTSTAMP:20260420T213835
CREATED:20260218T170900Z
LAST-MODIFIED:20260318T205312Z
UID:10004090-1825873200-1825880400@www.standrews.net
SUMMARY:Property Resource Committee Meeting (Conference Room)
DESCRIPTION:
URL:https://www.standrews.net/event/property-resource-committee-meeting-conference-room-50/
END:VEVENT
BEGIN:VEVENT
DTSTART;TZID=America/New_York:20271111T190000
DTEND;TZID=America/New_York:20271111T210000
DTSTAMP:20260420T213835
CREATED:20251129T203810Z
LAST-MODIFIED:20260217T170657Z
UID:10003746-1825959600-1825966800@www.standrews.net
SUMMARY:Property Resource Committee Meeting (Conference Room)
DESCRIPTION:
URL:https://www.standrews.net/event/property-resource-committee-meeting-conference-room-4/
END:VEVENT
BEGIN:VEVENT
DTSTART;TZID=America/New_York:20271112T130000
DTEND;TZID=America/New_York:20271112T140000
DTSTAMP:20260420T213835
CREATED:20251129T203810Z
LAST-MODIFIED:20260318T205312Z
UID:10003747-1826024400-1826028000@www.standrews.net
SUMMARY:Peace Islamic Center (Parish Hall)
DESCRIPTION:
URL:https://www.standrews.net/event/peace-islamic-center-parish-hall-14/
END:VEVENT
BEGIN:VEVENT
DTSTART;TZID=America/New_York:20271112T200000
DTEND;TZID=America/New_York:20271112T210000
DTSTAMP:20260420T213835
CREATED:20251130T205326Z
LAST-MODIFIED:20260318T205312Z
UID:10003748-1826049600-1826053200@www.standrews.net
SUMMARY:AA Meeting (Conference Room)
DESCRIPTION:
URL:https://www.standrews.net/event/aa-meeting-conference-room-15/
END:VEVENT
BEGIN:VEVENT
DTSTART;TZID=America/New_York:20271113T180000
DTEND;TZID=America/New_York:20271113T190000
DTSTAMP:20260420T213835
CREATED:20251130T205326Z
LAST-MODIFIED:20260318T205313Z
UID:10003749-1826128800-1826132400@www.standrews.net
SUMMARY:Holy Eucharist: Rite II (Chapel)
DESCRIPTION:
URL:https://www.standrews.net/event/holy-eucharist-rite-ii-chapel-21/
END:VEVENT
END:VCALENDAR